Workbook
Name Accrual_Days: [1]Flags!$B:$B
Name ACTACC: [1]PRJE!$H$1
Name Actual_Flag: [1]Flags!$A$1:$A$2
Name CHART: [2]Sheet1!$A:$B
Name DAYSTOACCRUE: #REF!
Name ENERO: #REF!
Name ENERO: #REF!
Name ENERO: #REF!
Name ENERO: #REF!
Name ENERO: #REF!
Name ENERO: #REF!
Name ENTITY: #REF!
Name LAST: #REF!
Name NMLKUPTABLE: [1]Flags!$G:$I
Name proplistshort: [2]Sheet1!$D$1:$D$24
Name PROPNAME: [1]Flags!$G:$G
Name spec: #REF!
Name TAB_MOIS: '[3]Income Statement'!#REF!
Name TAB_MOIS: #REF!
Name TAB_MOIS: '[3]Income Statement'!#REF!
Name TAB_MOIS: #REF!
Name TAB_MOIS: #REF!
Name TAB_MOIS: '[3]Income Statement'!#REF!
Name TAB_MOIS: #REF!
Name TAB_MOIS: '[3]Income Statement'!#REF!
Name TAB_MOIS: #REF!
Name TAB_MOIS: '[3]Income Statement'!#REF!
Name TAB_MOIS: #REF!
Name TAB_MOIS: '[4]Income Statement'!#REF!
Name YESNOCHOICE: [2]Sheet1!$D$1:$D$2

Sheet NOT TO USE
B1: PROPRIETORS STRATA PLAN # 50 - BUDGET 2022
B3: SUMMARY | D3: BUDGET 2022 | E3: ACTUAL 2021 | F3: BUDGET 2021 | G3: ACTUAL 2020 | H3: ACTUAL 2019 | J3: B 2022 vs Act 2021 | K3: % | M3: Act 2021 vs Bud 2021 | N3: %
B5: Revenues | D5: =+'NOT TO USE.'!D5 -> 3073618 | E5: =+'NOT TO USE.'!E5 -> 2730915.4 | F5: =+'NOT TO USE.'!G5 -> 2827475 | G5: =+'NOT TO USE.'!H5 -> 2588050 | H5: =+'NOT TO USE.'!J5 -> 3025526 | J5: =D5-E5 -> 342702.64 | K5: =+J5/E5 -> 0.12549003 | M5: =E5-F5 -> -96559.64 | N5: =+M5/F5 -> -0.034150484
B6: TOTAL REVENUES | D6: =SUM(D5) -> 3073618 | E6: =SUM(E5) -> 2730915.4 | F6: =SUM(F5) -> 2827475 | G6: =+G5 -> 2588050 | H6: =+H5 -> 3025526 | J6: =D6-E6 -> 342702.64 | K6: =+J6/E6 -> 0.12549003 | M6: =E6-F6 -> -96559.64 | N6: =+M6/F6 -> -0.034150484
J7: =+J6/E6 -> 0.12549003 | M7: =+M6/F6 -> -0.034150484
B8: Admin & General | D8: =+'NOT TO USE.'!D8 -> 1160225.9 | E8: =+'NOT TO USE.'!E8 -> 1061411 | F8: =+'NOT TO USE.'!G8 -> 1140816.9 | G8: =+'NOT TO USE.'!H8 -> 1010975 | H8: =+'NOT TO USE.'!J8 -> 1088697 | J8: =D8-E8 -> 98814.9 | K8: =+J8/E8 -> 0.093097678 | M8: =E8-F8 -> -79405.906 | N8: =+M8/F8 -> -0.069604426
B9: Maintenance | D9: =+'NOT TO USE.'!D9 -> 1170801.3 | E9: =+'NOT TO USE.'!E9 -> 917709.15 | F9: =+'NOT TO USE.'!G9 -> 1099121.3 | G9: =+'NOT TO USE.'!H9 -> 644808 | H9: =+'NOT TO USE.'!J9 -> 1099990 | J9: =D9-E9 -> 253092.13 | K9: =+J9/E9 -> 0.27578687 | M9: =E9-F9 -> -181412.19 | N9: =+M9/F9 -> -0.16505201
B10: Pool & Beach | D10: =+'NOT TO USE.'!D10 -> 431094.75 | E10: =+'NOT TO USE.'!E10 -> 364865.13 | F10: =+'NOT TO USE.'!G10 -> 378189.54 | G10: =+'NOT TO USE.'!H10 -> 223967 | H10: =+'NOT TO USE.'!J10 -> 409493 | J10: =D10-E10 -> 66229.621 | K10: =+J10/E10 -> 0.18151809 | M10: =E10-F10 -> -13324.411 | N10: =+M10/F10 -> -0.035232099
B11: Common Areas | D11: =+'NOT TO USE.'!D11 -> 82400 | E11: =+'NOT TO USE.'!E11 -> 74251.5 | F11: =+'NOT TO USE.'!G11 -> 71291.67 | G11: =+'NOT TO USE.'!H11 -> 54479 | H11: =+'NOT TO USE.'!J11 -> 63510 | J11: =D11-E11 -> 8148.5 | K11: =+J11/E11 -> 0.10974189 | M11: =E11-F11 -> 2959.83 | N11: =+M11/F11 -> 0.041517193
B12: Utilities | D12: =+'NOT TO USE.'!D12 -> 266000 | E12: =+'NOT TO USE.'!E12 -> 283692 | F12: =+'NOT TO USE.'!G12 -> 198250 | G12: =+'NOT TO USE.'!H12 -> 139546 | H12: =+'NOT TO USE.'!J12 -> 262888 | J12: =D12-E12 -> -17692 | K12: =+J12/E12 -> -0.062363408 | M12: =E12-F12 -> 85442 | N12: =+M12/F12 -> 0.43098108
B13: TOTAL EXPENSES | D13: =SUM(D8:D12) -> 3110521.9 | E13: =SUM(E8:E12) -> 2701928.8 | F13: =SUM(F8:F12) -> 2887669.5 | G13: =SUM(G8:G12) -> 2073775 | H13: =SUM(H8:H12) -> 2924578 | J13: =D13-E13 -> 408593.15 | K13: =+J13/E13 -> 0.15122277 | M13: =E13-F13 -> -185740.68 | N13: =+M13/F13 -> -0.064322001
J14: =+J13/E13 -> 0.15122277 | M14: =+M13/F13 -> -0.064322001
B15: Insurance Assessment | D15: ='NOT TO USE.'!D15 -> -1140358 | E15: ='NOT TO USE.'!E15 -> -956333 | F15: ='NOT TO USE.'!G15 -> -971514 | G15: ='NOT TO USE.'!H15 -> -870465 | H15: ='NOT TO USE.'!J15 -> -749079 | J15: =D15-E15 -> -184025 | K15: =+J15/E15 -> 0.19242774 | M15: =E15-F15 -> 15181 | N15: =+M15/F15 -> -0.015626126
B16: Insurance Expenses | D16: ='NOT TO USE.'!D16 -> 1140358 | E16: ='NOT TO USE.'!E16 -> 956333 | F16: ='NOT TO USE.'!G16 -> 971514 | G16: ='NOT TO USE.'!H16 -> 870465 | H16: ='NOT TO USE.'!J16 -> 749079 | J16: =D16-E16 -> 184025 | K16: =+J16/E16 -> 0.19242774 | M16: =E16-F16 -> -15181 | N16: =+M16/F16 -> -0.015626126
B17: Management Fee | J17: =D17-E17 -> 0 | M17: =E17-F17 -> 0
B18: TOTAL INSURANCE | D18: =SUM(D15:D17) -> 0 | E18: =SUM(E15:E17) -> 0 | F18: =SUM(G15:G17) -> 0 | G18: =SUM(J15:J17) -> 0 | H18: =SUM(K15:K17) -> 0.38485548 | J18: =D18-E18 -> 0 | M18: =E18-F18 -> 0
J19: =D19-E19 -> 0 | M19: =E19-F19 -> 0
B20: Capex Reserve Assessment | D20: =+'NOT TO USE.'!D20 -> -193608 | E20: =+'NOT TO USE.'!E20 -> -145206 | F20: =+'NOT TO USE.'!G20 -> -145206 | G20: =+'NOT TO USE.'!H20 -> -32268 | H20: =+'NOT TO USE.'!J20 -> -193608 | J20: =D20-E20 -> -48402 | K20: =+J20/E20 -> 0.33333333 | M20: =E20-F20 -> 0 | N20: =+M20/F20 -> 0
B21: Major Reserve Assessment | D21: =+'NOT TO USE.'!D21 -> -322680 | E21: =+'NOT TO USE.'!E21 -> -242010 | F21: =+'NOT TO USE.'!G21 -> -242010 | G21: =+'NOT TO USE.'!H21 -> -53780 | H21: =+'NOT TO USE.'!J21 -> -322680 | J21: =D21-E21 -> -80670 | K21: =+J21/E21 -> 0.33333333 | M21: =E21-F21 -> 0 | N21: =+M21/F21 -> 0
B22: Reserve Fund | D22: =+'NOT TO USE.'!D22 -> 516288 | E22: =+'NOT TO USE.'!E22 -> 387216 | F22: =+'NOT TO USE.'!G22 -> 387216 | G22: =+'NOT TO USE.'!H22 -> 86048 | H22: =+'NOT TO USE.'!J22 -> 516288 | J22: =D22-E22 -> 129072 | K22: =+J22/E22 -> 0.33333333 | M22: =E22-F22 -> 0 | N22: =+M22/F22 -> 0
B23: TOTAL RESERVE FUND | D23: =SUM(D20:D22) -> 0 | E23: =SUM(E20:E22) -> 0 | F23: =SUM(G20:G22) -> 0 | G23: =SUM(J20:J22) -> 0 | H23: =SUM(K20:K22) -> 1 | J23: =D23-E23 -> 0 | M23: =E23-F23 -> 0
J24: =D24-E24 -> 0 | M24: =E24-F24 -> 0
B25: INCOME/ (LOSS) | D25: =D6-D13-D18-D23 -> -36903.93 | E25: =E6-E13-E18-E23 -> 28986.581 | F25: =F6-F13-F18-F23 -> -60194.456 | G25: =G6-G13-G18-G23 -> 514275 | H25: =H6-H13-H18-H23 -> 100946.62 | J25: =D25-E25 -> -65890.511 | K25: =+J25/E25 -> -2.2731384 | M25: =E25-F25 -> 89181.037
B28: ADMIN & GENERAL
B30: REVENUES | D30: =D3 -> BUDGET 2022 | E30: =E3 -> ACTUAL 2021 | F30: =F3 -> BUDGET 2021 | G30: =G3 -> ACTUAL 2020 | H30: =H3 -> ACTUAL 2019 | J30: =+J$3 -> B 2022 vs Act 2021 | K30: =+K$3 -> % | M30: =+M$3 -> Act 2021 vs Bud 2021 | N30: =+N$3 -> %
B31: Strata Fees | D31: ='NOT TO USE.'!D31 -> 2471484 | E31: ='NOT TO USE.'!E31 -> 2286117 | F31: ='NOT TO USE.'!G31 -> 2285996.9 | G31: ='NOT TO USE.'!H31 -> 2286117 | H31: ='NOT TO USE.'!J31 -> 2447052 | J31: =D31-E31 -> 185367 | K31: =+J31/E31 -> 0.081083777 | M31: =E31-F31 -> 120.06 | N31: =+M31/F31 -> 5.2519755e-05
B32: Strata Garage Fees | D32: ='NOT TO USE.'!D32 -> 70140 | E32: ='NOT TO USE.'!E32 -> 70140 | F32: ='NOT TO USE.'!G32 -> 70140 | G32: ='NOT TO USE.'!H32 -> 70140 | H32: ='NOT TO USE.'!J32 -> 69708 | J32: =D32-E32 -> 0 | K32: =+J32/E32 -> 0 | M32: =E32-F32 -> 0 | N32: =+M32/F32 -> 0
B33: Watersport Contribution | D33: ='NOT TO USE.'!D33 -> 0 | E33: ='NOT TO USE.'!E33 -> 0 | F33: ='NOT TO USE.'!G33 -> 0 | G33: ='NOT TO USE.'!H33 -> 0 | H33: ='NOT TO USE.'!J33 -> 0 | J33: =D33-E33 -> 0 | M33: =E33-F33 -> 0
B34: Maintenance Revenue | D34: ='NOT TO USE.'!D34 -> 438000 | E34: ='NOT TO USE.'!E34 -> 285641.89 | F34: ='NOT TO USE.'!G34 -> 420083.37 | G34: ='NOT TO USE.'!H34 -> 201459 | H34: ='NOT TO USE.'!J34 -> 426574 | J34: =D34-E34 -> 152358.11 | K34: =+J34/E34 -> 0.53338854 | M34: =E34-F34 -> -134441.48 | N34: =+M34/F34 -> -0.32003523
B35: Income from water | D35: ='NOT TO USE.'!D35 -> 21840 | E35: ='NOT TO USE.'!E35 -> 18627.13 | F35: ='NOT TO USE.'!G35 -> 12850 | G35: ='NOT TO USE.'!H35 -> 9412 | H35: ='NOT TO USE.'!J35 -> 18165 | J35: =D35-E35 -> 3212.87 | K35: =+J35/E35 -> 0.17248336 | M35: =E35-F35 -> 5777.13 | N35: =+M35/F35 -> 0.4495821
B36: Income from power | D36: ='NOT TO USE.'!D36 -> 55488 | E36: ='NOT TO USE.'!E36 -> 51901.59 | F36: ='NOT TO USE.'!G36 -> 36460 | G36: ='NOT TO USE.'!H36 -> 26764 | H36: ='NOT TO USE.'!J36 -> 55457 | J36: =D36-E36 -> 3586.41 | K36: =+J36/E36 -> 0.069100195 | M36: =E36-F36 -> 15441.59 | N36: =+M36/F36 -> 0.42352139
B37: Income from cable | D37: ='NOT TO USE.'!D37 -> 14400 | E37: ='NOT TO USE.'!E37 -> 16546 | F37: ='NOT TO USE.'!G37 -> 0 | G37: ='NOT TO USE.'!H37 -> -7226 | H37: ='NOT TO USE.'!J37 -> 5782 | J37: =D37-E37 -> -2146 | K37: =+J37/E37 -> -0.12969902 | M37: =E37-F37 -> 16546 | N37: =+M37/F37 -> #DIV/0!
B38: Income from pest control | D38: ='NOT TO USE.'!D38 -> 2016 | E38: ='NOT TO USE.'!E38 -> 1820.04 | F38: ='NOT TO USE.'!G38 -> 1820 | G38: ='NOT TO USE.'!H38 -> 1193 | H38: ='NOT TO USE.'!J38 -> 486 | J38: =D38-E38 -> 195.96 | K38: =+J38/E38 -> 0.10766796 | M38: =E38-F38 -> 0.04 | N38: =+M38/F38 -> 2.1978022e-05
B39: Other Income | D39: ='NOT TO USE.'!D39 -> 0 | E39: ='NOT TO USE.'!E39 -> 0 | F39: ='NOT TO USE.'!G39 -> 0 | G39: ='NOT TO USE.'!H39 -> 0 | H39: ='NOT TO USE.'!J39 -> 0 | J39: =D39-E39 -> 0 | M39: =E39-F39 -> 0
B40: Interest Income | D40: ='NOT TO USE.'!D40 -> 250 | E40: ='NOT TO USE.'!E40 -> 121.71 | F40: ='NOT TO USE.'!G40 -> 125 | G40: ='NOT TO USE.'!H40 -> 191 | H40: ='NOT TO USE.'!J40 -> 2302 | J40: =D40-E40 -> 128.29 | K40: =+J40/E40 -> 1.0540629 | M40: =E40-F40 -> -3.29 | N40: =+M40/F40 -> -0.02632
B41: TOTAL REVENUES | D41: =SUM(D31:D40) -> 3073618 | E41: =SUM(E31:E40) -> 2730915.4 | F41: =SUM(F31:F40) -> 2827475.3 | G41: =SUM(G31:G40) -> 2588050 | H41: =SUM(H31:H40) -> 3025526 | J41: =D41-E41 -> 342702.64 | K41: =+J41/E41 -> 0.12549003 | M41: =E41-F41 -> -96559.95 | N41: =+M41/F41 -> -0.03415059
B43: PAYROLL EXPENSES
B44: Security Payroll | D44: =+'NOT TO USE.'!D44 -> 216000 | E44: =+'NOT TO USE.'!E44 -> 204053 | F44: =+'NOT TO USE.'!G44 -> 229200 | G44: =+'NOT TO USE.'!H44 -> 169941 | H44: =+'NOT TO USE.'!J44 -> 167516 | J44: =D44-E44 -> 11947 | K44: =+J44/E44 -> 0.058548514 | M44: =E44-F44 -> -25147 | N44: =+M44/F44 -> -0.1097164
B45: Supplemental pay | D45: =+'NOT TO USE.'!D45 -> 24000 | E45: =+'NOT TO USE.'!E45 -> 18740 | F45: =+'NOT TO USE.'!G45 -> 24000 | G45: =+'NOT TO USE.'!H45 -> 19384 | H45: =+'NOT TO USE.'!J45 -> 21411 | J45: =D45-E45 -> 5260 | K45: =+J45/E45 -> 0.28068303 | M45: =E45-F45 -> -5260 | N45: =+M45/F45 -> -0.21916667
B46: Employee meals | D46: =+'NOT TO USE.'!D46 -> 18000 | E46: =+'NOT TO USE.'!E46 -> 15613 | F46: =+'NOT TO USE.'!G46 -> 12600 | G46: =+'NOT TO USE.'!H46 -> 14908 | H46: =+'NOT TO USE.'!J46 -> 10743 | J46: =D46-E46 -> 2387 | K46: =+J46/E46 -> 0.15288542 | M46: =E46-F46 -> 3013 | N46: =+M46/F46 -> 0.23912698
...

Sheet NOT TO USE.
B1: PROPRIETORS STRATA PLAN # 50 - BUDGET 2022
B3: SUMMARY | D3: BUDGET 2022 | E3: ACT 2021 | F3: B 2022 vs A/B 2021 | G3: BUDGET 2021 | H3: ACTUAL 2020 | I3: B 2021 vs 2020 | J3: ACTUAL 2019 | K3: B 2021 vs A2019 | L3: ACTUAL 2018 | M3: ACTUAL 2017 | N3: ACTUAL 2016 | O3: ACTUAL 2015 | P3: ACTUAL 2014 | Q3: ACTUAL 2013 | R3: ACTUAL 2012 | S3: ACTUAL 2011 | T3: ACTUAL 2010 | U3: ACTUAL 2009 | V3: ACTUAL 2008 | X3: Var Bud-21 Actual-20
B5: Revenues | D5: =D41 -> 3073618 | E5: =E41 -> 2730915.4 | F5: =D5-E5 -> 342702.64 | G5: 2827475 | H5: =H41 -> 2588050 | I5: =G5-H5 -> 239425 | J5: 3025526 | K5: =+G5-J5 -> -198051 | L5: 2822420.1 | M5: 3031936.7 | N5: =N41 -> 2891636.4 | O5: =O41 -> 2830631 | P5: =P41 -> 2676421 | Q5: =Q41 -> 2506157 | R5: =R41 -> 2607225 | S5: =S41 -> 2540084.9 | T5: =T41 -> 2619960.1 | U5: =U41 -> 2440441.5 | V5: =V41 -> 2527094.8 | X5: =G5-H5 -> 239425 | Y5: =X5/H5 -> 0.092511737
B6: TOTAL REVENUES | D6: =SUM(D5) -> 3073618 | E6: =SUM(E5) -> 2730915.4 | F6: =D6-E6 -> 342702.64 | G6: =SUM(G5) -> 2827475 | H6: =SUM(H5) -> 2588050 | I6: =G6-H6 -> 239425 | J6: =SUM(J5) -> 3025526 | K6: =SUM(K5) -> -198051 | L6: 2822420.1 | M6: 3031936.7 | N6: =SUM(N5) -> 2891636.4 | O6: =SUM(O5) -> 2830631 | P6: =SUM(P5) -> 2676421 | Q6: =SUM(Q5) -> 2506157 | R6: =SUM(R5) -> 2607225 | S6: =SUM(S5) -> 2540084.9 | T6: =SUM(T5) -> 2619960.1 | U6: =SUM(U5) -> 2440441.5 | V6: =SUM(V5) -> 2527094.8 | X6: =G6-H6 -> 239425 | Y6: =X6/H6 -> 0.092511737
F7: =D7-E7 -> 0 | I7: =G7-H7 -> 0 | X7: =G7-H7 -> 0
B8: Admin & General | D8: =D51+D65 -> 1160225.9 | E8: =E51+E65 -> 1061411 | F8: =D8-E8 -> 98814.9 | G8: 1140816.9 | H8: =H51+H65 -> 1010975 | I8: =G8-H8 -> 129841.91 | J8: 1088697 | K8: =+G8-J8 -> 52119.906 | L8: 1034343.2 | M8: 1082722.8 | N8: =N51+N65 -> 1014329.8 | O8: =O51+O65 -> 982265 | P8: =P51+P65 -> 876903 | Q8: =Q51+Q65 -> 727173 | R8: =R51+R65 -> 712479 | S8: =S51+S65 -> 713560.68 | T8: =T51+T65 -> 716645.92 | U8: =U51+U65 -> 698327.63 | V8: =V51+V65 -> 601463.12 | X8: =G8-H8 -> 129841.91 | Y8: =X8/H8 -> 0.12843236
B9: Maintenance | D9: =D83+D103 -> 1170801.3 | E9: =E83+E103 -> 917709.15 | F9: =D9-E9 -> 253092.13 | G9: 1099121.3 | H9: =H83+H103 -> 644808 | I9: =G9-H9 -> 454313.34 | J9: 1099990 | K9: =+G9-J9 -> -868.66 | L9: 1058935.5 | M9: 1145905.9 | N9: =N83+N103 -> 1116228.8 | O9: =O83+O103 -> 1173498 | P9: =P83+P103 -> 1174476 | Q9: =Q83+Q103 -> 1183518 | R9: =R83+R103 -> 1247781 | S9: =S83+S103 -> 1301540.5 | T9: =T83+T103 -> 1227862 | U9: =U83+U103 -> 1200332.9 | V9: =V83+V103 -> 1284277.9 | X9: =G9-H9 -> 454313.34 | Y9: =X9/H9 -> 0.7045715
B10: Pool & Beach | D10: =D119+D133 -> 431094.75 | E10: =E119+E133 -> 364865.13 | F10: =D10-E10 -> 66229.621 | G10: 378189.54 | H10: =H119+H133 -> 223967 | I10: =G10-H10 -> 154222.54 | J10: 409493 | K10: =+G10-J10 -> -31303.46 | L10: 403433.67 | M10: 382443.99 | N10: =N119+N133 -> 378351.12 | O10: =O119+O133 -> 370209.5 | P10: =P119+P133 -> 365998 | Q10: =Q119+Q133 -> 321111 | R10: =R119+R133 -> 362345 | S10: =S119+S133 -> 378447.44 | T10: =T119+T133 -> 407987.87 | U10: =U119+U133 -> 372031.79 | V10: =V119+V133 -> 366324.33 | X10: =G10-H10 -> 154222.54 | Y10: =X10/H10 -> 0.68859493
B11: Common Areas | D11: =D154+D160 -> 82400 | E11: =E154+E160 -> 74251.5 | F11: =D11-E11 -> 8148.5 | G11: 71291.67 | H11: =H154+H160 -> 54479 | I11: =G11-H11 -> 16812.67 | J11: 63510 | K11: =+G11-J11 -> 7781.67 | L11: 67591.35 | M11: 61728.23 | N11: =N154+N160 -> 67931.77 | O11: =O154+O160 -> 57132 | P11: =P154+P160 -> 57299 | Q11: =Q154+Q160 -> 52477 | R11: =R154+R160 -> 38403 | S11: =S154+S160 -> 35930.61 | T11: =T154+T160 -> 48256 | U11: =U154+U160 -> 39644.18 | V11: =V154+V160 -> 44376.94 | X11: =G11-H11 -> 16812.67 | Y11: =X11/H11 -> 0.30860827
B12: Utilities | D12: =D172 -> 266000 | E12: =E172 -> 283692 | F12: =D12-E12 -> -17692 | G12: 198250 | H12: =H172 -> 139546 | I12: =G12-H12 -> 58704 | J12: 262888 | K12: =+G12-J12 -> -64638 | L12: 258116.99 | M12: 191616.54 | N12: =N172 -> 238312.47 | O12: =O172 -> 185013.5 | P12: =P172 -> 227418 | Q12: =Q172 -> 221640 | R12: =R172 -> 240211 | S12: =S172 -> 211910.53 | T12: =T172 -> 216161.23 | U12: =U172 -> 142821.57 | V12: =V172 -> 228619.82 | X12: =G12-H12 -> 58704 | Y12: =X12/H12 -> 0.42067849
B13: TOTAL EXPENSES | D13: =SUM(D8:D12) -> 3110521.9 | E13: =SUM(E8:E12) -> 2701928.8 | F13: =D13-E13 -> 408593.15 | G13: =SUM(G8:G12) -> 2887669.5 | H13: =SUM(H8:H12) -> 2073775 | I13: =G13-H13 -> 813894.46 | J13: =SUM(J8:J12) -> 2924578 | K13: =SUM(K8:K12) -> -36908.544 | L13: 2822420.8 | M13: 2864417.4 | N13: =SUM(N8:N12) -> 2815153.9 | O13: =SUM(O8:O12) -> 2768118 | P13: =SUM(P8:P12) -> 2702094 | Q13: =SUM(Q8:Q12) -> 2505919 | R13: =SUM(R8:R12) -> 2601219 | S13: =SUM(S8:S12) -> 2641389.7 | T13: =SUM(T8:T12) -> 2616913 | U13: =SUM(U8:U12) -> 2453158.1 | V13: =SUM(V8:V12) -> 2525062.1 | X13: =G13-H13 -> 813894.46 | Y13: =X13/H13 -> 0.39246999
F14: =D14-E14 -> 0 | I14: =G14-H14 -> 0 | X14: =G14-H14 -> 0
B15: Insurance Assessment | D15: -1140358 | E15: -956333 | F15: =D15-E15 -> -184025 | G15: -971514 | H15: -870465 | I15: =G15-H15 -> -101049 | J15: -749079 | K15: =+G15-J15 -> -222435 | L15: 667940 | M15: -425800.87 | N15: -495836 | O15: -562706 | P15: -588347 | Q15: -711228.57 | R15: -724315 | S15: -702283 | T15: -796448.62 | U15: -935478.66 | V15: -808439.03 | X15: =G15-H15 -> -101049 | Y15: =IF(H15=0,0,X15/H15) -> 0.11608623
B16: Insurance Expenses | D16: =-D15 -> 1140358 | E16: =-E15 -> 956333 | F16: =D16-E16 -> 184025 | G16: 971514 | H16: 870465 | I16: =G16-H16 -> 101049 | J16: 749079 | K16: =+G16-J16 -> 222435 | L16: -667940 | M16: 425800.87 | N16: =-N15 -> 495836 | O16: 562706 | P16: 588347 | Q16: 610756 | R16: 621306 | S16: 600242 | T16: 682022.52 | U16: 799741 | V16: 697490.83 | X16: =G16-H16 -> 101049 | Y16: =IF(H16=0,0,X16/H16) -> 0.11608623
B17: Management Fee | F17: =D17-E17 -> 0 | I17: =G17-H17 -> 0 | N17: =[5]Assumptions!H169 -> 0 | Q17: 100472.57 | R17: 103009 | S17: 102041 | T17: 114426 | U17: 135738 | V17: 110948 | X17: =G17-H17 -> 0 | Y17: =IF(H17=0,0,X17/H17) -> 0
B18: TOTAL INSURANCE | D18: =SUM(D15:D17) -> 0 | E18: =SUM(E15:E17) -> 0 | F18: =D18-E18 -> 0 | G18: =SUM(G15:G17) -> 0 | H18: =SUM(H15:H17) -> 0 | I18: =G18-H18 -> 0 | J18: =SUM(J15:J17) -> 0 | L18: 0 | M18: 0 | N18: =SUM(N15:N17) -> 0 | O18: =SUM(O15:O17) -> 0 | P18: =SUM(P15:P17) -> 0 | Q18: =SUM(Q15:Q17) -> -0.0011087646 | R18: =SUM(R15:R17) -> 0 | S18: =SUM(S15:S17) -> 0 | T18: =SUM(T15:T17) -> -0.1 | U18: =SUM(U15:U17) -> 0.34 | V18: =SUM(V15:V17) -> -0.2 | X18: =G18-H18 -> 0 | Y18: =IF(H18=0,0,X18/H18) -> 0
F19: =D19-E19 -> 0 | I19: =G19-H19 -> 0 | X19: =G19-H19 -> 0
B20: Capex Reserve Assessment | D20: -193608 | E20: -145206 | F20: =D20-E20 -> -48402 | G20: -145206 | H20: -32268 | I20: =G20-H20 -> -112938 | J20: -193608 | K20: =+G20-J20 -> 48402 | L20: -193608 | M20: -193608 | N20: =[5]Assumptions!H192 -> -193608 | O20: ='[5]FC 2019'!Q34 -> -193608 | P20: ='[5]FC 2019'!Q34 -> -193608 | Q20: -193608 | R20: -125780 | S20: -77328 | T20: -77328 | U20: -77328 | V20: -77328 | X20: =G20-H20 -> -112938 | Y20: =X20/H20 -> 3.5
B21: Major Reserve Assessment | D21: -322680 | E21: -242010 | F21: =D21-E21 -> -80670 | G21: -242010 | H21: -53780 | I21: =G21-H21 -> -188230 | J21: -322680 | K21: =+G21-J21 -> 80670 | L21: -322680 | M21: -322680 | N21: =[5]Assumptions!H193 -> -322680 | O21: ='[5]FC 2019'!Q35 -> -322680 | P21: ='[5]FC 2019'!Q35 -> -322680 | Q21: 0 | R21: -187201 | S21: -320916 | T21: -307026 | U21: -302484 | V21: -293388 | X21: =G21-H21 -> -188230 | Y21: =IF(H21=0,0,X21/H21) -> 3.5
B22: Reserve Fund | D22: 516288 | E22: 387216 | F22: =D22-E22 -> 129072 | G22: 387216 | H22: 86048 | I22: =G22-H22 -> 301168 | J22: 516288 | K22: =+G22-J22 -> -129072 | L22: 516288 | M22: 516288 | N22: =-N20-N21 -> 516288 | O22: ='[5]FC 2019'!Q36 -> 516288 | P22: ='[5]FC 2019'!Q36 -> 516288 | Q22: 193608 | R22: 312981 | S22: 398244 | T22: 384354 | U22: 379812 | V22: 370716 | X22: =G22-H22 -> 301168 | Y22: =X22/H22 -> 3.5
B23: TOTAL RESERVE FUND | D23: =SUM(D20:D22) -> 0 | E23: =SUM(E20:E22) -> 0 | F23: =D23-E23 -> 0 | G23: =SUM(G20:G22) -> 0 | H23: =SUM(H20:H22) -> 0 | I23: =G23-H23 -> 0 | J23: =SUM(J20:J22) -> 0 | L23: 0 | M23: 0 | N23: =SUM(N20:N22) -> 0 | O23: =SUM(O20:O22) -> 0 | P23: =SUM(P20:P22) -> 0 | Q23: =SUM(Q20:Q22) -> 0 | R23: =SUM(R20:R22) -> 0 | S23: =SUM(S20:S22) -> 0 | T23: =SUM(T20:T22) -> 0 | U23: =SUM(U20:U22) -> 0 | V23: =SUM(V20:V22) -> 0 | X23: =G23-H23 -> 0 | Y23: =IF(H23=0,0,X23/H23) -> 0
F24: =D24-E24 -> 0 | I24: =G24-H24 -> 0
B25: INCOME/ (LOSS) | D25: =D6-D13-D18-D23 -> -36903.93 | E25: =E6-E13-E18-E23 -> 28986.581 | F25: =D25-E25 -> -65890.511 | G25: =G6-G13-G18-G23 -> -60194.456 | H25: =H6-H13-H18-H23 -> 514275 | I25: =G25-H25 -> -574469.46 | J25: =J6-J13-J18-J23 -> 100948 | K25: =+G25-J25 -> -161142.46 | L25: 0.305556 | M25: 167519.3 | N25: =N6-N13-N18-N23 -> 76482.45 | O25: =O6-O13-O18-O23 -> 62513 | P25: =P6-P13-P18-P23 -> -25673 | Q25: =Q6-Q13-Q18-Q23 -> 238.00111 | R25: =R6-R13-R18-R23 -> 6006 | S25: =S6-S13-S18-S23 -> -101304.88 | T25: =T6-T13-T18-T23 -> 3047.19 | U25: =U6-U13-U18-U23 -> -12716.94 | V25: =V6-V13-V18-V23 -> 2032.96 | X25: =G25-H25 -> -574469.46 | Y25: =X25/H25 -> -1.1170472
O27: 2015-2013 BALANCE MOVED TO RESERVE IN 2016 | R27: =-92404+6006 -> -86398 | S27: Before maintenance | T27: =T25-87890 -> -84842.81 | U27: Before PPC claim reimbursement
B28: ADMIN & GENERAL | S28: allocations
B30: REVENUES | D30: =D3 -> BUDGET 2022 | E30: =E3 -> ACT 2021 | F30: B 2021 vs 2020 | G30: =G3 -> BUDGET 2021 | H30: =H3 -> ACTUAL 2020 | I30: B 2021 vs 2020 | J30: =J3 -> ACTUAL 2019 | K30: =+K3 -> B 2021 vs A2019 | L30: ACTUAL 2018 | M30: ACTUAL 2017 | N30: =N3 -> ACTUAL 2016 | O30: =O3 -> ACTUAL 2015 | P30: =P3 -> ACTUAL 2014 | Q30: =Q3 -> ACTUAL 2013 | R30: =R3 -> ACTUAL 2012 | S30: =S3 -> ACTUAL 2011 | T30: =T3 -> ACTUAL 2010 | U30: =U3 -> ACTUAL 2009 | V30: =V3 -> ACTUAL 2008 | X30: =X3 -> Var Bud-21 Actual-20
B31: Strata Fees | D31: 2471484 | E31: 2286117 | F31: =D31-E31 -> 185367 | G31: 2285996.9 | H31: 2286117 | I31: =G31-H31 -> -120.06 | J31: 2447052 | K31: =+G31-J31 -> -161055.06 | L31: 2304900 | M31: 2366257 | N31: 2312124 | O31: 2281560 | P31: 2175936 | Q31: 2037504 | R31: 2037504 | S31: 2037504 | T31: 2037504 | U31: 1985880 | V31: 1916808 | X31: =G31-H31 -> -120.06 | Y31: =X31/H31 -> -5.2516997e-05
B32: Strata Garage Fees | D32: 70140 | E32: 70140 | F32: =D32-E32 -> 0 | G32: 70140 | H32: 70140 | I32: =G32-H32 -> 0 | J32: 69708 | K32: =+G32-J32 -> 432 | L32: 62368 | M32: 66708 | N32: 65868 | O32: 64968 | P32: 62345 | Q32: 57428 | R32: 57420 | S32: 57420 | T32: 57420 | U32: 56592 | V32: 56592 | X32: =G32-H32 -> 0 | Y32: =X32/H32 -> 0
B33: Watersport Contribution | D33: 0 | E33: 0 | F33: =D33-E33 -> 0 | G33: 0 | H33: 0 | I33: =G33-H33 -> 0 | J33: 0 | K33: =+G33-J33 -> 0 | M33: 0 | N33: 0 | O33: ='[5]FC 2019'!Q51 -> 0 | P33: ='[5]FC 2019'!Q51 -> 0 | Q33: 0 | R33: 15000 | S33: 15000 | T33: 15000 | U33: 15000 | V33: 15000 | X33: =G33-H33 -> 0 | Y33: =IF(X33=0,0,X33/H33) -> 0
B34: Maintenance Revenue | D34: 438000 | E34: 285641.89 | F34: =D34-E34 -> 152358.11 | G34: 420083.37 | H34: 201459 | I34: =G34-H34 -> 218624.37 | J34: 426574 | K34: =+G34-J34 -> -6490.63 | L34: 329012.65 | M34: 482388.1 | N34: 383504.26 | O34: 347657 | P34: 283756 | Q34: 258718 | R34: 356372 | S34: 287715.04 | T34: 296466.49 | U34: 269722.71 | V34: 378292.97 | X34: =G34-H34 -> 218624.37 | Y34: =X34/H34 -> 1.0852053
B35: Income from water | D35: 21840 | E35: 18627.13 | F35: =D35-E35 -> 3212.87 | G35: 12850 | H35: 9412 | I35: =G35-H35 -> 3438 | J35: 18165 | K35: =+G35-J35 -> -5315 | L35: 19638.46 | M35: 21542.717 | N35: 27940.04 | O35: 25138.5 | P35: 23691 | Q35: 20345 | R35: 18684 | S35: 21509.5 | T35: 28901.43 | U35: 26861.2 | V35: 24775.03 | X35: =G35-H35 -> 3438 | Y35: =X35/H35 -> 0.36527837
B36: Income from power | D36: 55488 | E36: 51901.59 | F36: =D36-E36 -> 3586.41 | G36: 36460 | H36: 26764 | I36: =G36-H36 -> 9696 | J36: 55457 | K36: =+G36-J36 -> -18997 | L36: 50531.16 | M36: 60540.01 | N36: 75814.81 | O36: 89579.5 | P36: 102247 | Q36: 101818 | R36: 92382 | S36: 85480.36 | T36: 70115.47 | U36: 61310.17 | V36: 90288.3 | X36: =G36-H36 -> 9696 | Y36: =X36/H36 -> 0.36227769
B37: Income from cable | D37: 14400 | E37: 16546 | F37: =D37-E37 -> -2146 | G37: 0 | H37: -7226 | I37: =G37-H37 -> 7226 | J37: 5782 | K37: =+G37-J37 -> -5782 | L37: 52731.76 | M37: 29630.99 | N37: 22373.86 | O37: 17712 | P37: 18232 | Q37: 17887 | R37: 19793 | S37: 25902.58 | T37: 19953.41 | U37: 20130 | V37: 20405 | X37: =G37-H37 -> 7226 | Y37: =X37/H37 -> -1
B38: Income from pest control | D38: 2016 | E38: 1820.04 | F38: =D38-E38 -> 195.96 | G38: 1820 | H38: 1193 | I38: =G38-H38 -> 627 | J38: 486 | K38: =+G38-J38 -> 1334 | L38: 1791.06 | M38: 2340 | N38: 2340 | O38: 2124 | P38: 2232 | Q38: 2259 | R38: 1692 | S38: 2340 | T38: 2340 | U38: 1603.4 | V38: 19695 | X38: =G38-H38 -> 627 | Y38: =X38/H38 -> 0.5255658
B39: Other Income | D39: 0 | E39: 0 | F39: =D39-E39 -> 0 | G39: 0 | H39: 0 | I39: =G39-H39 -> 0 | J39: 0 | K39: =+G39-J39 -> 0 | L39: 0 | M39: 0 | N39: 0 | O39: ='[5]FC 2019'!Q57 -> 0 | P39: 1650 | Q39: 1750 | R39: 0 | S39: 0 | T39: 64485 | U39: 0 | V39: 0 | X39: =G39-H39 -> 0 | Y39: =X39/H39 -> #DIV/0!
B40: Interest Income | D40: 250 | E40: 121.71 | F40: =D40-E40 -> 128.29 | G40: 125 | H40: 191 | I40: =G40-H40 -> -66 | J40: 2302 | K40: =+G40-J40 -> -2177 | L40: 1447 | M40: 2529.88 | N40: 1671.4 | O40: 1892 | P40: 6332 | Q40: 8448 | R40: 8378 | S40: 7213.38 | T40: 27774.27 | U40: 3341.98 | V40: 5238.55 | X40: =G40-H40 -> -66 | Y40: =X40/H40 -> -0.34554974
B41: TOTAL REVENUES | C41: =SUM(C31:C40) -> 0 | D41: =SUM(D31:D40) -> 3073618 | E41: =SUM(E31:E40) -> 2730915.4 | F41: =D41-E41 -> 342702.64 | G41: =SUM(G31:G40) -> 2827475.3 | H41: =SUM(H31:H40) -> 2588050 | I41: =G41-H41 -> 239425.31 | J41: =SUM(J31:J40) -> 3025526 | K41: =+G41-J41 -> -198050.69 | L41: 2822420.1 | M41: 3031936.7 | N41: =SUM(N31:N40) -> 2891636.4 | O41: =SUM(O31:O40) -> 2830631 | P41: =SUM(P31:P40) -> 2676421 | Q41: =SUM(Q31:Q40) -> 2506157 | R41: =SUM(R31:R40) -> 2607225 | S41: =SUM(S31:S40) -> 2540084.9 | T41: =SUM(T31:T40) -> 2619960.1 | U41: =SUM(U31:U40) -> 2440441.5 | V41: =SUM(V31:V40) -> 2527094.8 | X41: =G41-H41 -> 239425.31 | Y41: =X41/H41 -> 0.092511856
B43: PAYROLL EXPENSES
B44: Security Payroll | D44: 216000 | E44: 204053 | F44: =D44-E44 -> 11947 | G44: 229200 | H44: 169941 | I44: =G44-H44 -> 59259 | J44: 167516 | K44: =+G44-J44 -> 61684 | L44: 146114.19 | M44: 151579.48 | N44: 157389.59 | O44: 160998 | P44: 136595 | Q44: 152334 | R44: 137773 | S44: 145848 | T44: 178966.3 | U44: 156327.51 | V44: 170404.27 | X44: =G44-H44 -> 59259 | Y44: =X44/H44 -> 0.34870337
B45: Supplemental pay | D45: 24000 | E45: 18740 | F45: =D45-E45 -> 5260 | G45: 24000 | H45: 19384 | I45: =G45-H45 -> 4616 | J45: 21411 | K45: =+G45-J45 -> 2589 | L45: 12241.22 | M45: 9454.69 | N45: 13756.88 | O45: 17494 | P45: 13848 | Q45: 14574 | R45: 13741 | S45: 14859 | T45: 0 | U45: 0 | V45: 0 | X45: =G45-H45 -> 4616 | Y45: =X45/H45 -> 0.23813454
...

Sheet P&L Actual 2024
B1: PROPRIETORS STRATA PLAN # 50 - ACTUAL 2024
B3: SUMMARY | D3: ACTUAL 2024 | E3: BUDGET 2024 | F3: ACTUAL 2023 | G3: ACTUAL 2022 | H3: ACTUAL 2021 | J3: B 2022 vs Act 2021 | K3: % | M3: Act 2024 vs Bud 2024 | N3: %
B5: Revenues | D5: 3553334.9 | E5: 3154524.2 | F5: 3364420 | G5: 3020537.4 | H5: =+'NOT TO USE.'!E5 -> 2730915.4 | J5: =D5-F5 -> 188914.92 | K5: =+J5/F5 -> 0.056150814 | M5: =D5-E5 -> 398810.76 | N5: =+M5/E5 -> 0.12642501
B6: TOTAL REVENUES | D6: =SUM(D5) -> 3553334.9 | E6: =SUM(E5) -> 3154524.2 | F6: =SUM(F5) -> 3364420 | G6: 3020537.4 | H6: =+H5 -> 2730915.4 | J6: =D6-F6 -> 188914.92 | K6: =+J6/F6 -> 0.056150814 | M6: =D6-E6 -> 398810.76 | N6: =+M6/E6 -> 0.12642501
J7: =+J6/F6 -> 0.056150814 | M7: =+M6/E6 -> 0.12642501
B8: Admin & General | D8: 1300689.8 | E8: 1174837.3 | F8: 1223614 | G8: 1175693.5 | H8: =+'NOT TO USE.'!E8 -> 1061411 | J8: =D8-F8 -> 77075.83 | K8: =+J8/F8 -> 0.062990314 | M8: =D8-E8 -> 125852.58 | N8: =+M8/E8 -> 0.10712341
B9: Maintenance | D9: 1380588.2 | E9: 1093847 | F9: 1142249 | G9: 1124972.5 | H9: =+'NOT TO USE.'!E9 -> 917709.15 | J9: =D9-F9 -> 238339.2 | K9: =+J9/F9 -> 0.20865783 | M9: =D9-E9 -> 286741.2 | N9: =+M9/E9 -> 0.26214014
B10: Pool & Beach | D10: 421533.01 | E10: 412743.19 | F10: 505210 | G10: 466558.88 | H10: =+'NOT TO USE.'!E10 -> 364865.13 | J10: =D10-F10 -> -83676.99 | K10: =+J10/F10 -> -0.16562813 | M10: =D10-E10 -> 8789.8179 | N10: =+M10/E10 -> 0.021296094
B11: Common Areas | D11: 86381.21 | E11: 88151.837 | F11: 95524 | G11: 89624.37 | H11: =+'NOT TO USE.'!E11 -> 74251.5 | J11: =D11-F11 -> -9142.79 | K11: =+J11/F11 -> -0.095711968 | M11: =D11-E11 -> -1770.6274 | N11: =+M11/E11 -> -0.020086109
B12: Utilities | D12: 392190.56 | E12: 384937 | F12: 389769 | G12: 337788.44 | H12: =+'NOT TO USE.'!E12 -> 283692 | J12: =D12-F12 -> 2421.56 | K12: =+J12/F12 -> 0.0062128081 | M12: =D12-E12 -> 7253.56 | N12: =+M12/E12 -> 0.018843499
B13: TOTAL EXPENSES | D13: =SUM(D8:D12) -> 3581382.8 | E13: =SUM(E8:E12) -> 3154516.3 | F13: =SUM(F8:F12) -> 3356366 | G13: 3194637.7 | H13: =SUM(H8:H12) -> 2701928.8 | J13: =D13-F13 -> 225016.81 | K13: =+J13/F13 -> 0.067041798 | M13: =D13-E13 -> 426866.53 | N13: =+M13/E13 -> 0.13531917
J14: =+J13/F13 -> 0.067041798 | M14: =+M13/E13 -> 0.13531917
B15: Insurance Assessment | D15: -1202228 | E15: -1138588.8 | F15: =-1138589 -> -1138589 | G15: -1140358 | H15: ='NOT TO USE.'!E15 -> -956333 | J15: =D15-F15 -> -63639 | K15: =+J15/F15 -> 0.055892864 | M15: =D15-E15 -> -63639.22 | N15: =+M15/E15 -> 0.055893068
B16: Insurance Expenses | D16: 1202228 | E16: 1138588.8 | F16: 1138589 | G16: 1140358 | H16: ='NOT TO USE.'!E16 -> 956333 | J16: =D16-F16 -> 63639 | K16: =+J16/F16 -> 0.055892864 | M16: =D16-E16 -> 63639.22 | N16: =+M16/E16 -> 0.055893068
B17: Management Fee | J17: =D17-F17 -> 0 | M17: =D17-E17 -> 0
B18: TOTAL INSURANCE | D18: =SUM(D15:D17) -> 0 | E18: =SUM(D15:D17) -> 0 | F18: =SUM(F15:F17) -> 0 | G18: 0 | H18: =SUM(F15:F17) -> 0 | J18: =D18-F18 -> 0 | M18: =D18-E18 -> 0
J19: =D19-F19 -> 0 | M19: =D19-E19 -> 0
B20: Capex Reserve Assessment | D20: -197484 | E20: -197484 | F20: =-197478 -> -197478 | G20: -193608 | H20: =+'NOT TO USE.'!E20 -> -145206 | J20: =D20-F20 -> -6 | K20: =+J20/F20 -> 3.0383131e-05 | M20: =D20-E20 -> 0 | N20: =+M20/E20 -> 0
B21: Major Reserve Assessment | D21: -329172 | E21: -329172 | F21: =-329176 -> -329176 | G21: -322680 | H21: =+'NOT TO USE.'!E21 -> -242010 | J21: =D21-F21 -> 4 | K21: =+J21/F21 -> -1.2151554e-05 | M21: =D21-E21 -> 0 | N21: =+M21/E21 -> 0
B22: Reserve Fund | D22: 526656 | E22: 526656 | F22: =526654 -> 526654 | G22: 516288 | H22: =+'NOT TO USE.'!E22 -> 387216 | J22: =D22-F22 -> 2 | K22: =+J22/F22 -> 3.7975597e-06 | M22: =D22-E22 -> 0 | N22: =+M22/E22 -> 0
B23: TOTAL RESERVE FUND | D23: =SUM(D20:D22) -> 0 | E23: =SUM(D20:D22) -> 0 | F23: =SUM(F20:F22) -> 0 | G23: 0 | H23: =SUM(F20:F22) -> 0 | J23: =D23-F23 -> 0 | M23: =D23-E23 -> 0
J24: =D24-F24 -> 0 | M24: =D24-E24 -> 0
B25: INCOME/ (LOSS) | D25: =D6-D13-D18-D23 -> -28047.89 | E25: =E6-E13-E18-E23 -> 7.8782317 | F25: =F6-F13-F18-F23 -> 8054 | G25: -174100.29 | H25: =H6-H13-H18-H23 -> 28986.581 | J25: =D25-F25 -> -36101.89 | K25: =+J25/F25 -> -4.4824795 | M25: =D25-E25 -> -28055.768
B28: ADMIN & GENERAL
B30: REVENUES | D30: =D3 -> ACTUAL 2024 | E30: =E3 -> BUDGET 2024 | F30: =F3 -> ACTUAL 2023 | G30: ACTUAL 2022 | H30: =H3 -> ACTUAL 2021 | J30: =+J$3 -> B 2022 vs Act 2021 | K30: =+K$3 -> % | M30: =+M$3 -> Act 2024 vs Bud 2024 | N30: =+N$3 -> %
B31: Strata Fees | D31: 2638335.1 | E31: 2623869 | F31: 2724978 | G31: 2471484 | H31: ='NOT TO USE.'!E31 -> 2286117 | J31: =D31-F31 -> -86642.85 | K31: =+J31/F31 -> -0.031795798 | M31: =D31-E31 -> 14466.15 | N31: =+M31/E31 -> 0.0055132897
B32: Strata Garage Fees | D32: 77136 | E32: 74307.6 | F32: 77171 | G32: 70140 | H32: ='NOT TO USE.'!E32 -> 70140 | J32: =D32-F32 -> -35 | K32: =+J32/F32 -> -0.00045353825 | M32: =D32-E32 -> 2828.4 | N32: =+M32/E32 -> 0.038063401
B33: Watersport Contribution | D33: ='NOT TO USE.'!D33 -> 0 | E33: ='NOT TO USE.'!D33 -> 0 | G33: 0 | H33: ='NOT TO USE.'!E33 -> 0 | J33: =D33-F33 -> 0 | M33: =D33-E33 -> 0
B34: Maintenance Revenue | D34: 739262.41 | E34: 364028.01 | F34: 445719 | G34: 368600 | H34: ='NOT TO USE.'!E34 -> 285641.89 | J34: =D34-F34 -> 293543.41 | K34: =+J34/F34 -> 0.65858402 | M34: =D34-E34 -> 375234.4 | N34: =+M34/E34 -> 1.0307844
B35: Income from water | D35: 14487.29 | E35: 15186.05 | F35: 19288.41 | G35: 20497.26 | H35: ='NOT TO USE.'!E35 -> 18627.13 | J35: =D35-F35 -> -4801.12 | K35: =+J35/F35 -> -0.24891217 | M35: =D35-E35 -> -698.76 | N35: =+M35/E35 -> -0.046013282
B36: Income from power | D36: 50931.52 | E36: 48582.5 | F36: 64156.68 | G36: 66349.93 | H36: ='NOT TO USE.'!E36 -> 51901.59 | J36: =D36-F36 -> -13225.16 | K36: =+J36/F36 -> -0.20613847 | M36: =D36-E36 -> 2349.02 | N36: =+M36/E36 -> 0.048351155
B37: Income from cable | D37: 20175.84 | E37: 14175 | F37: 18001.25 | G37: 21635 | H37: ='NOT TO USE.'!E37 -> 16546 | J37: =D37-F37 -> 2174.59 | K37: =+J37/F37 -> 0.12080217 | M37: =D37-E37 -> 6000.84 | N37: =+M37/E37 -> 0.42333968
B38: Income from pest control | D38: -1460.63 | E38: 420 | F38: 378.96 | G38: 1625.04 | H38: ='NOT TO USE.'!E38 -> 1820.04 | J38: =D38-F38 -> -1839.59 | K38: =+J38/F38 -> -4.8543118 | M38: =D38-E38 -> -1880.63 | N38: =+M38/E38 -> -4.4776905
B39: Other Income | D39: 7974.64 | E39: 8796 | F39: 8502.96 | G39: 0 | H39: ='NOT TO USE.'!E39 -> 0 | J39: =D39-F39 -> -528.32 | M39: =D39-E39 -> -821.36
B40: Interest Income | D40: 6492.7 | E40: 5160 | F40: 6223.91 | G40: 205.97 | H40: ='NOT TO USE.'!E40 -> 121.71 | J40: =D40-F40 -> 268.79 | K40: =+J40/F40 -> 0.043186678 | M40: =D40-E40 -> 1332.7 | N40: =+M40/E40 -> 0.25827519
B41: TOTAL REVENUES | D41: =SUM(D31:D40) -> 3553334.9 | E41: =SUM(E31:E40) -> 3154524.2 | F41: =SUM(F31:F40) -> 3364420.2 | G41: 3020537.2 | H41: =SUM(H31:H40) -> 2730915.4 | J41: =D41-F41 -> 188914.75 | K41: =+J41/F41 -> 0.05615076 | M41: =D41-E41 -> 398810.76 | N41: =+M41/E41 -> 0.12642501
B43: PAYROLL EXPENSES
B44: Security Payroll | D44: 210772.32 | E44: 184115.72 | F44: 247197.25 | G44: 217644.37 | H44: =+'NOT TO USE.'!E44 -> 204053 | J44: =D44-F44 -> -36424.93 | K44: =+J44/F44 -> -0.14735168 | M44: =D44-E44 -> 26656.602 | N44: =+M44/E44 -> 0.14478178
B45: Supplemental pay | D45: 46837.94 | E45: 20252.729 | F45: 24442.96 | G45: 25592.96 | H45: =+'NOT TO USE.'!E45 -> 18740 | J45: =D45-F45 -> 22394.98 | K45: =+J45/F45 -> 0.91621391 | M45: =D45-E45 -> 26585.211 | N45: =+M45/E45 -> 1.312673
B46: Employee meals | D46: 15436.74 | E46: 20581.044 | F46: 21746.21 | G46: 20319.72 | H46: =+'NOT TO USE.'!E46 -> 15613 | J46: =D46-F46 -> -6309.47 | K46: =+J46/F46 -> -0.29014113 | M46: =D46-E46 -> -5144.304 | N46: =+M46/E46 -> -0.2499535
...

Sheet Var 2024
B2: Strata Plans # 50 Income statement YTD 2024
B3: Variance analysis actual to budget
C4: Positive | D4: Negative
C5: variances | D5: variances
B6: INCOME | C6: to budget | D6: to budget
B7: Maintenance Revenues | C7: 375234
B8: Strata Fees | C8: =14466+2828 -> 17294
B9: Others | D9: =-1881-821+1333 -> -1369
B10: Income from utilities | C10: =-699+2349+6001 -> 7651
B12: Total Income | C12: =SUM(C7:C10) -> 400179 | D12: =SUM(D7:D10) -> -1369
C13: =D12+C12 -> 398810
B15: EXPENSES
B17: Maintenance & Landscaping payroll | C17: =-22295 -> -22295
B18: Pool & Beach Payroll | C18: =-4468 -> -4468
B19: Electricity | C19: -3391
B20: Pool repairs | C20: =-3465+102 -> -3363
B21: Maintenance & Landscaping benefits | C21: =(3+12133-6936-248+4259-11877) -> -2666
B22: Pool chemicals | C22: -1800
B23: Common Area Payroll & expenses | C23: -1771
B24: Other expenses A&G | C24: -346 | F24: higher expenses direclty
B25: Maintenance supplies & expenses | D25: 311702 | F25: related to higher revenues
B26: Security payroll (internal & external) | D26: =55828+70371 -> 126199
B27: Pool & Beach Supplies Furniture | D27: =24350/2 -> 12175
B28: Pool & Beach Laundry | D28: =12491/2 -> 6245.5
B29: water | D29: 6089
B30: Gas/Propane | D30: 4556
B32: Total Expenses | C32: =SUM(C17:C25) -> -40100 | D32: =SUM(D17:D30) -> 466966.5
D33: =C32+D32 -> 426866.5
B35: Total variance | C35: =C13-D33 -> -28056.5

Sheet Bal Sheet Actual 2024    
A1: PROPRIETORS STRATA PLAN # 50
A2: Balance sheet as of December 31, 2024
C3: SAP | D3: SAP | E3: SAP | F3: ACCPAC | G3: ACCPAC | I3: ACCPAC
C4: Ending Balance | D4: Net Activity 10/00 | E4: Net Activity 10/00 | F4: Ending Balance | G4: Ending Balance | I4: Variance Balance
C5: 36799 | D5: DR | E5: CR | F5: 45657 | G5: 45626
A6: Account | B6: Description
A7: ========= | B7: ================================== | C7: ================= | D7: =================== | E7: ==================== | F7: ============= | G7: =============
B9: CASH | F9: =SUM(F10:F12) -> 693009.6 | G9: 692038.49 | I9: =+F9-G9 -> 971.11
A10: 101030-01 | B10: OPERATING ACCOUNT | F10: 5118.71 | G10: 5118.71 | I10: =+F10-G10 -> 0
A11: 101036-01 | B11: DEPOSIT ACCOUNT (1 YEAR) | I11: =+F11-G11 -> 0
A12: 101037-01 | B12: DEPOSIT ACCOUNT (30 DAYS) | F12: 687890.89 | G12: 686919.78 | I12: =+F12-G12 -> 971.11
I13: =+F13-G13 -> 0
B14: OTHER RECEIVABLES | F14: =SUM(F15:F19) -> -227603.83 | G14: 108308.08 | I14: =+F14-G14 -> -335911.91
A15: 111050-01 | B15: RECEIVABLE SOMERSET (WWTP) | F15: 3815.49 | G15: 6158.07 | I15: =+F15-G15 -> -2342.58
A16: 111051-01 | B16: OWNER RECEIVABLES | H16: Paid by ER | I16: =+F16-G16 -> 0
A17: 111052-01 | B17: PERGOLA PROJECT - CLEARING ACCOUNT | I17: =+F17-G17 -> 0
A18: 111053-01 | B18: GILLEN HALL DESIGN PROJECT - CLEARING ACCOUNT
A19: 111070-01 | B19: INTERCOMPANY MANAGEMENT CO | F19: =-231419.32 -> -231419.32 | G19: 102150.01 | H19: Inntercompany between Mgmt co | I19: =+F19-G19 -> -333569.33
B21: INVENTORIES | F21: =SUM(F22:F23) -> 450790.79 | G21: 520193.59 | I21: =+F21-G21 -> -69402.8
A22: 123058-01 | B22: ENGINEERING INVENTORY | F22: 400190.86 | G22: 468163.13 | H22: Last set of Monogram fridges being charge out | I22: =+F22-G22 -> -67972.27
A23: 124010-01 | B23: HURRICANE INVENTORY | F23: 50599.93 | G23: 52030.46 | I23: =+F23-G23 -> -1430.53
B25: PREPAIDS | F25: =SUM(F26:F27) -> 11184.02 | G25: 42408.78 | I25: =+F25-G25 -> -31224.76
A26: 130001-01 | B26: PREPAID INSURANCE | F26: 1299.7 | G26: 2598.53 | I26: =+F26-G26 -> -1298.83
A27: 130009-01 | B27: PREPAID OTHERS | F27: 9884.32 | G27: 39810.25 | H27: Last month of prepaid items being draw down monthly | I27: =+F27-G27 -> -29925.93
B29: DEPOSITS | F29: =+F30 -> 30420 | G29: 30420 | I29: =+F29-G29 -> 0
A30: 131001-01 | B30: DEPOSITS VENDORS | F30: 30420 | G30: 30420 | I30: =+F30-G30 -> 0
I31: =+F31-G31 -> 0
B32: OTHER ASSETS | F32: =SUM(F33:F33) -> 0 | G32: 0 | I32: =+F32-G32 -> 0
A33: 259010-01 | B33: ACCRUED OTHER EXPENSES | F33: 0 | G33: 0 | I33: =+F33-G33 -> 0
I34: =+F34-G34 -> 0
I35: =+F35-G35 -> 0
B36: TOTAL ASSETS | F36: =F9+F14+F21+F25+F29 -> 957800.58 | G36: 1393368.9 | I36: =+F36-G36 -> -435568.36
B38: TRADE PAYABLES | F38: =SUM(F39) -> 0 | G38: 0 | I38: =+F38-G38 -> 0
A39: 111070-01 | B39: INTERCOMPANY MANAGEMENT CO | I39: =+F39-G39 -> 0
I40: =+F40-G40 -> 0
B41: ACCRUED EXPENSES | F41: =SUM(F42:F43) -> 17944.63 | G41: 20641.69 | I41: =+F41-G41 -> -2697.06
A42: 252001-01 | B42: ACCRUED SALARIES/WAGES | F42: 1411.18 | G42: 4670.74 | I42: =+F42-G42 -> -3259.56
A43: 259010-01 | B43: ACCRUED OTHERS | F43: 16533.45 | G43: 15970.95 | I43: =+F43-G43 -> 562.5
B45: DEPOSITS/DEFERRED INCOME | F45: =SUM(F46:F46) -> 0 | G45: 0 | I45: =+F45-G45 -> 0
I46: =+F46-G46 -> 0
...

Sheet Capital 2024
C2: PROPRIETORS STRATA PLAN # 50
C4: CAPITAL EXPENDITURES - 2024 BUDGET
B6: PROJECT # | C6: CAPITAL RESERVE FUND | E6: Budget | G6: Actual | I6: Forecast | K6: Forecast | M6: Variance
E7: 2024 | G7: December YTD 2024 | I7: remainder | K7: Total year | M7: to Budget | O7: Comments
B8: 24C-01 | C8: Landscaping Equipment/ Plants/Fertilizers/ Oceanfront Palm Trees | E8: 20000 | G8: =630.8+752.5+1054+1097.68+1089.65+116+3855+7192.52+3032.87+3795+2475.67+630+440 -> 26161.69 | I8: =+E8-G8 -> -6161.69 | K8: =G8+I8 -> 20000 | M8: =G8-E8 -> 6161.69 | O8: Landscaping plants
B9: 24C-02 | C9: Landscaping and Pathway Lighting | E9: 6500 | G9: =1268.86+36.02+235.47+2279.96+395.4+693+3027.03 -> 7935.74 | I9: 0 | K9: =G9+I9 -> 7935.74 | M9: =G9-E9 -> 1435.74 | O9: Pathway lighting various purchases
B10: 24C-03 | C10: Parking lot Curbs / Repair - Repainting & Sidewalk Treatment | E10: 5000 | G10: =298+648+279+2300 -> 3525 | I10: =+E10-G10 -> 1475 | K10: =G10+I10 -> 5000 | M10: =G10-E10 -> -1475 | O10: 323041--ultra spec satin exterior- capex parking lot curb pa 24C-03
B11: 24C-04 | C11: Pathway Signs | E11: 5000 | G11: =4400+642.73+112.97+527.38+613.04+800 -> 7096.12 | I11: 0 | K11: =G11+I11 -> 7096.12 | M11: =G11-E11 -> 2096.12 | O11: NEW TECH CONSTRUCTION 1113029--- Repairing the Sign 32 - 24C-04
B12: 24C-05 | C12: Exterior Building Cleaning (done with Window cleaning below) | E12: 7500 | G12: 7500 | I12: =+E12-G12 -> 0 | K12: =G12+I12 -> 7500 | M12: =G12-E12 -> 0
B13: 24C-06 | C13: Suite Exterior Window Cleaning during closure - Scafolding | E13: 24000 | G13: =30400-7500 -> 22900 | I13: =+E13-G13 -> 1100 | K13: =G13+I13 -> 24000 | M13: =G13-E13 -> -1100 | O13: 110124--WINDOW CLEANING AND EXT MOLD&MILDEW R FROM BLDG1-5 & -24C-06
B14: 24C-07 | C14: Gym Equipment - Cross Trainer / Elliptical / Flooring Repairs | E14: 13000 | G14: =5489.5+2180+1941.16 -> 9610.66 | I14: =+E14-G14 -> 3389.34 | K14: =G14+I14 -> 13000 | M14: =G14-E14 -> -3389.34 | O14: Caribbean Purchasing - Treadmill - Gym - 24C-07 & Air and sea charges
B15: 24C-08 | C15: Beach Furniture - 15 umbrellas, 10 Chaises, Clamshell Repairs/Refurbishment, Chaise and Chair Sling Replacements | E15: 30000 | G15: =5210+7174.47+12500 -> 24884.47 | I15: =+E15-G15 -> 5115.53 | K15: =G15+I15 -> 30000 | M15: =G15-E15 -> -5115.53 | O15: Sole, Inc - Canopy Shade for Umbrella - Pool & Beach
B16: 24C-09 | C16: Beach Rescue Boat Trailer - to remove to the beach in rough seas | E16: 4000 | G16: =779.69+2210+1925 -> 4914.69 | I16: 0 | K16: =G16+I16 -> 4914.69 | M16: =G16-E16 -> 914.69 | O16: JASON DELANCYINV0001-A--Water trailer repair-
B17: 24C-10 | C17: Watersports Equipment- Single and Double Kayak, 3 Paddle Boards, Hobie Sail | E17: 8500 | I17: =+E17-G17 -> 8500 | K17: =G17+I17 -> 8500 | M17: =G17-E17 -> -8500
B18: 24C-11 | C18: New Ice machine | E18: 12000 | G18: 9201.42 | I18: =+E18-G18 -> 2798.58 | K18: =G18+I18 -> 12000 | M18: =G18-E18 -> -2798.58 | O18: UNI-SOURCE SUPPLY INTERNATIONAL INC 0106146--Indigo NXT Ice Maker- Capex 24C-11-
B19: 24C-12 | C19: Pool Furniture- 5 Umbrellas and Bases, 10 Side Tables, Cushion Repairs and Repalcements, Chaise refubishments | E19: =4800+5500+3500 -> 13800 | G19: =158.37+4253.03+3271.75+4245.64+3271.74 -> 15200.53 | I19: 0 | K19: =G19+I19 -> 15200.53 | M19: =G19-E19 -> 1400.53 | O19: Tropitone Furniture Co. - Sling set Chaise Lounge (Pool & Be - 24C-12
B20: 24C-13 | C20: Pool Lights | E20: 8000 | G20: =8323 -> 8323 | I20: 0 | K20: =G20+I20 -> 8323 | M20: =G20-E20 -> 323 | O20: CARLISLE SUPPLIES LIMITED3155901--Intellibrite Spa Pool Light- (POOL LIGHTS)
B21: 24C-14 | C21: Pool Heater | E21: 9000 | G21: =3325+822.37+503.85 -> 4651.22 | I21: =+E21-G21 -> 4348.78 | K21: =G21+I21 -> 9000 | M21: =G21-E21 -> -4348.78 | O21: Howard Industries -41745--pool heater- 24C-14
B22: 24C-15 | C22: Jacuzzi & Pool Pump | E22: 13000 | G22: =6775+644.14+303.86 -> 7723 | I22: =+E22-G22 -> 5277 | K22: =G22+I22 -> 13000 | M22: =G22-E22 -> -5277 | O22: HOWARD INDUSTRIES - Pentair EQ Series Commercial Pump 15 HP 208-230/460V 39-36/16 Amp 24C-15
B23: 24C-16 | C23: Irrigation Pump | E23: 5500 | G23: =3114.95 -> 3114.95 | I23: =+E23-G23 -> 2385.05 | K23: =G23+I23 -> 5500 | M23: =G23-E23 -> -2385.05 | O23: UNI-SOURCE SUPPLY INTERNATIONAL INC 0105861--pump, goulds, odp motor etc-Capex 24c-16-
B24: 24C-17 | C24: Dumpster Concrete Slab Repour | E24: 8000 | G24: =2950+371.98 -> 3321.98 | I24: =+E24-G24 -> 4678.02 | K24: =G24+I24 -> 8000 | M24: =G24-E24 -> -4678.02 | O24: 909796--dig foundation mesh,install wire and concrete-capex- 24C-17
B25: 24C-18 | C25: Updated BCQS Report | E25: 4500 | G25: 4000 | I25: =+E25-G25 -> 500 | K25: =G25+I25 -> 4500 | M25: =G25-E25 -> -500 | O25: BCQS International #FEE 19708 -24c-18
B26: 24C-19 | C26: CCTV System Upgrade | E26: 10000 | G26: =1796+558+300+681+482.5+420 -> 4237.5 | I26: =+E26-G26 -> 5762.5 | K26: =G26+I26 -> 10000 | M26: =G26-E26 -> -5762.5 | O26: CCTV system upgrade
B27: 24C-20 | C27: Miscellaneous | E27: 15000 | G27: =-18023.69+4400.75+6473+23800.5+5125.25+5150+1918+1918+5150+835+835+7000 -> 44581.81 | I27: 0 | K27: =G27+I27 -> 44581.81 | M27: =G27-E27 -> 29581.81 | O27: Credit from PAUL DUESING Inv#5557, 5599, 5583 & 5603 ( 2022 & 2023 ) - Miscoded - General Coral Rendering to rooms & Balcony for September 2024 - November 2024 24c-20
K29: =G29+I29 -> 0 | M29: =K29-E29 -> 0
C30: TOTAL 2024 CAPITAL RESERVE FUND | E30: =SUM(E8:E29) -> 222300 | G30: =SUM(G8:G29) -> 218883.78 | I30: =SUM(I8:I29) -> 39168.11 | K30: =SUM(K8:K29) -> 258051.89 | M30: =SUM(M8:M29) -> -3416.22

Sheet Major 2024
C2: PROPRIETORS STRATA PLAN # 50
C4: MAJOR EXPENDITURES - 2024
E5: Budget | G5: Actual | I5: Forecast | K5: Forecast | M5: Variance to
B6: PROJECT | C6: MAJOR RESERVE FUND | E6: 2024 | G6: December YTD 2024 | I6: remainder | K6: Total year | M6: Budget | P6: Comments
B7: 24M-01 | C7: Flat Roofing Resealing of Membrane During Closure (8) - (originally multi-year project & done 10 years ago) | E7: 80000 | G7: =1044+571.51+1245+96+3000+5562+3500+137+2550+6250+137+17604+532.67+1603.96+3398.4 -> 47231.54 | I7: =+E7-G7 -> 32768.46 | K7: =G7+I7 -> 80000 | M7: =G7-E7 -> -32768.46 | P7: TCI Paint purchases for roofing project
B8: 24M-02 | C8: Pool Resurfacing Diamondbrite | E8: 100000 | G8: =2054.48+422.18+5353.25+1070.65+10000+87.75+23399.4+1035+1924.71+2186.43+15.26+366.84+7003.2+347.21+7003.2+18105+3300.22+9173.55+200+7000+32500 -> 132548.33 | I8: 0 | K8: =G8+I8 -> 132548.33 | M8: =G8-E8 -> 32548.33 | P8: FELIUS CHARLES 085951--Pre-Payment for the labor of Swimming Pool- 24M-02, KB HOME various pool equipments, Various purchases for Diamond brite
B9: 24M-03 | C9: Stairwell Painting (8) after Refurbishment | E9: 48000 | G9: =500+6941+9000+60+654+16000+8000+10000 -> 51155 | I9: 0 | K9: =G9+I9 -> 51155 | M9: =G9-E9 -> 3155 | P9: TCI Paint &Supply 320569--Wel-cote 45min Mud,gloveworks,ultra spec-Capex 24M-03
B10: 24M-04 | C10: Firepump Balance | E10: 38000 | I10: =+E10-G10 -> 38000 | K10: =G10+I10 -> 38000 | M10: =G10-E10 -> -38000
B11: 24M-05 | C11: Main Aluminum Gate (T-Bore Refusal to welded anymore) - or one other contractor will reinforce for 2024 ($5,000) | E11: 34000 | G11: =226+1600+742.5+4329 -> 6897.5 | I11: =+E11-G11 -> 27102.5 | K11: =G11+I11 -> 34000 | M11: =G11-E11 -> -27102.5 | P11: Main guest gate repairs & Manual lift Barrier
B12: 24M-06 | C12: Balance of New Hilux Truck | E12: 20500 | G12: =20500 -> 20500 | I12: =+E12-G12 -> 0 | K12: =G12+I12 -> 20500 | M12: =G12-E12 -> 0
B13: 24M-07 | C13: Water Instrusions | E13: 12000 | G13: =156+3069+72.13+16357.28+19447.32 -> 39101.73 | I13: 0 | K13: =G13+I13 -> 39101.73 | M13: =G13-E13 -> 27101.73 | P13: TCI PAINT320745--Sika Con Sealant limestone Capex 24m-07
K14: =G14+I14 -> 0 | M14: =G14-E14 -> 0
C15: Miscellaneous | G15: 98976.56 | K15: =G15+I15 -> 98976.56 | M15: =G15-E15 -> 98976.56 | P15: ISLAND FIRE SUPPLIES LTD 8454--fire alarm renovation- -
C16: Miscellaneous | G16: 66574.67 | K16: =G16+I16 -> 66574.67 | M16: =G16-E16 -> 66574.67 | P16: STORM SAFE ROOFING LTD SSR002--room reno wndw repair bldg 1-
C17: Miscellaneous | G17: 5080 | K17: =G17+I17 -> 5080 | M17: =G17-E17 -> 5080 | P17: STORM SAFE ROOFING LTD SSR001--WIRING UP OF ANNUNCIATOR PANE
C18: Miscellaneous | G18: 7254.63 | K18: =G18+I18 -> 7254.63 | M18: =G18-E18 -> 7254.63 | P18: STORM SAFE ROOFING LTD SSR001--SUPPLY AND INSTALL WALL TILIN
C19: Miscellaneous | G19: 5770.56 | K19: =G19+I19 -> 5770.56 | M19: =G19-E19 -> 5770.56 | P19: STORM SAFE ROOFING LTD SSR001--POOL LIGHTING NAD TIMERS-
C20: Miscellaneous | G20: 4813.3 | K20: =G20+I20 -> 4813.3 | M20: =G20-E20 -> 4813.3 | P20: STORM SAFE ROOFING LTD SSR001--SUPPLY AND INSTALL OF 1 EXIST
C21: Miscellaneous | G21: 5080.01 | K21: =G21+I21 -> 5080.01 | M21: =G21-E21 -> 5080.01 | P21: STORM SAFE ROOFING LTD SSR001--PRESSURE WASHING OF STACKS-
C22: Miscellaneous | G22: 1270 | K22: =G22+I22 -> 1270 | M22: =G22-E22 -> 1270 | P22: STORM SAFE ROOFING LTD SSR001--FORMING OF BENCH IN POOL SWIM
K23: =G23+I23 -> 0 | M23: =E23-G23 -> 0
K24: =+E24 -> 0 | M24: =+E24-G24 -> 0
C25: TOTAL 2024 MAJOR RESERVE FUND | E25: =SUM(E7:E24) -> 332500 | G25: =SUM(G7:G24) -> 492253.83 | I25: =SUM(I7:I24) -> 97870.96 | K25: =SUM(K7:K24) -> 590124.79 | M25: =SUM(M7:M24) -> 159753.83
P27: 2024 Reserves Page 2 of 3
I28: Remove forecast remainder for 24M-05

Sheet Reserve Flow Actual 2024
I2: PROPRIETORS STRATA PLAN # 50
I4: RESERVE FUNDS 2024
B6: YEAR 2012 | I6: RESERVE FUNDS | M6: CAPITAL | N6: MAJOR | O6: TOTAL
B8: OPENING BALANCE 2012: | F8: -26726 | G8: -26726 | I8: OPENING BALANCE 2024: | M8: 39399.62 | N8: 1001517.5 | O8: =SUM(M8:N8) -> 1040917.1
B10: February | E10: 0.42 | F10: 6444 | G10: 6444 | I10: FUNDINGS AS OF JAN 24 - DEC 24 | M10: =16457+16457+16457+16457+16457+16457+16457+16457+16457+16456+16456+16456 -> 197481 | N10: =27431+27431+27431+27431+27431+27431+27431+27431+27431+27423+27423+27423 -> 329148 | O10: =SUM(M10:N10) -> 526629
B11: March | E11: 0.42 | F11: 6444 | G11: 6444
B12: April | E12: 0.42 | F12: 6444 | G12: 6444 | I12: EXPENDITURES JAN 24 - DEC 24 | M12: =-'[6]CAPITAL 2024 BUDGET'!G30 -> -218883.78 | N12: =-'[6]MAJOR 2024 BUDGET'!G25 -> -492253.83 | O12: =SUM(M12:N12) -> -711137.61
B13: May | E13: 0.42 | F13: 6444 | G13: 6444
B14: June | E14: 0.42 | F14: 6444 | G14: 6444 | I14: ENDING BALANCE DECEMBER 2024 | M14: =SUM(M8:M12) -> 17996.84 | N14: =SUM(N8:N12) -> 838411.63 | O14: =SUM(M14:N14) -> 856408.47

Sheet P&L Q1 2025
B1: PROPRIETORS STRATA PLAN # 50 - Q1 January to March 2025
B3: SUMMARY | D3: ACTUAL 2025 - Q1 | E3: BUDGET 2025 - Q1 | F3: ACTUAL 2024 - Q1 | H3: Q1 2025 vs B 2025 | I3: % | K3: Act 2021 vs Bud 2021 | L3: %
B5: Revenues | D5: 821562.99 | E5: 945780.18 | F5: 886156.06 | H5: =D5-E5 -> -124217.19 | I5: =+H5/E5 -> -0.13133833 | K5: =#REF!-#REF! -> #REF! | L5: =+K5/#REF! -> #REF!
B6: TOTAL REVENUES | D6: =SUM(D5) -> 821562.99 | E6: =SUM(E5) -> 945780.18 | F6: =SUM(F5) -> 886156.06 | H6: =D6-E6 -> -124217.19 | I6: =+H6/E6 -> -0.13133833 | K6: =#REF!-#REF! -> #REF! | L6: =+K6/#REF! -> #REF!
K7: =+K6/#REF! -> #REF!
B8: Admin & General | D8: 351084.18 | E8: 368606.49 | F8: 302023.66 | H8: =D8-E8 -> -17522.313 | I8: =+H8/E8 -> -0.047536637 | K8: =#REF!-#REF! -> #REF! | L8: =+K8/#REF! -> #REF!
B9: Maintenance | D9: 254159.93 | E9: 312270.11 | F9: 298954.56 | H9: =D9-E9 -> -58110.181 | I9: =+H9/E9 -> -0.18608948 | K9: =#REF!-#REF! -> #REF! | L9: =+K9/#REF! -> #REF!
B10: Pool & Beach | D10: 129009.67 | E10: 131695.29 | F10: 118331.75 | H10: =D10-E10 -> -2685.6132 | I10: =+H10/E10 -> -0.020392629 | K10: =#REF!-#REF! -> #REF! | L10: =+K10/#REF! -> #REF!
B11: Common Areas | D11: 24135.38 | E11: 23586.13 | F11: 23647.44 | H11: =D11-E11 -> 549.2504 | I11: =+H11/E11 -> 0.023287008 | K11: =#REF!-#REF! -> #REF! | L11: =+K11/#REF! -> #REF!
B12: Utilities | D12: 119283.06 | E12: 123630 | F12: 115878.49 | H12: =D12-E12 -> -4346.94 | I12: =+H12/E12 -> -0.035160883 | K12: =#REF!-#REF! -> #REF! | L12: =+K12/#REF! -> #REF!
B13: TOTAL EXPENSES | D13: =SUM(D8:D12) -> 877672.23 | E13: =SUM(E8:E12) -> 959788.02 | F13: =SUM(F8:F12) -> 858835.9 | H13: =D13-E13 -> -82115.797 | I13: =+H13/E13 -> -0.08555618 | K13: =#REF!-#REF! -> #REF! | L13: =+K13/#REF! -> #REF!
K14: =+K13/#REF! -> #REF!
B15: Insurance Assessment | D15: -1202228 | E15: -1202228 | F15: -1202228 | H15: =D15-E15 -> 0 | I15: =+H15/E15 -> 0 | K15: =#REF!-#REF! -> #REF! | L15: =+K15/#REF! -> #REF!
B16: Insurance Expenses | D16: 1202228 | E16: 1202228 | F16: 1202228 | H16: =D16-E16 -> 0 | I16: =+H16/E16 -> 0 | K16: =#REF!-#REF! -> #REF! | L16: =+K16/#REF! -> #REF!
B17: Management Fee | K17: =#REF!-#REF! -> #REF!
B18: TOTAL INSURANCE | D18: =SUM(D15:D17) -> 0 | E18: =SUM(E15:E17) -> 0 | F18: =SUM(F15:F17) -> 0 | K18: =#REF!-#REF! -> #REF!
K19: =#REF!-#REF! -> #REF!
B20: Capex Reserve Assessment | D20: -49371 | E20: -49371 | F20: -49371 | H20: =D20-E20 -> 0 | I20: =+H20/E20 -> 0 | K20: =#REF!-#REF! -> #REF! | L20: =+K20/#REF! -> #REF!
B21: Major Reserve Assessment | D21: -82293 | E21: -82293 | F21: -82293 | H21: =D21-E21 -> 0 | I21: =+H21/E21 -> 0 | K21: =#REF!-#REF! -> #REF! | L21: =+K21/#REF! -> #REF!
B22: Reserve Fund | D22: 131664 | E22: 131664 | F22: 131664 | H22: =D22-E22 -> 0 | I22: =+H22/E22 -> 0 | K22: =#REF!-#REF! -> #REF! | L22: =+K22/#REF! -> #REF!
B23: TOTAL RESERVE FUND | D23: =SUM(D20:D22) -> 0 | E23: =SUM(E20:E22) -> 0 | F23: =SUM(F20:F22) -> 0 | K23: =#REF!-#REF! -> #REF!
K24: =#REF!-#REF! -> #REF!
B25: INCOME/ (LOSS) | D25: =D6-D13-D18-D23 -> -56109.235 | E25: =E6-E13-E18-E23 -> -14007.842 | F25: =F6-F13-F18-F23 -> 27320.16 | H25: =D25-E25 -> -42101.393 | I25: =+H25/E25 -> 3.0055588 | K25: =#REF!-#REF! -> #REF!
B28: ADMIN & GENERAL
B30: REVENUES | D30: =D3 -> ACTUAL 2025 - Q1 | E30: =E3 -> BUDGET 2025 - Q1 | F30: =F3 -> ACTUAL 2024 - Q1 | H30: =+H$3 -> Q1 2025 vs B 2025 | I30: =+I$3 -> % | K30: =+K$3 -> Act 2021 vs Bud 2021 | L30: =+L$3 -> %
B31: Strata Fees | D31: 685188 | E31: 749987.52 | F31: 685134 | H31: =D31-E31 -> -64799.52 | I31: =+H31/E31 -> -0.086400798 | K31: =#REF!-#REF! -> #REF! | L31: =+K31/#REF! -> #REF!
B32: Strata Garage Fees | D32: 19284 | E32: 20055.36 | F32: 19284 | H32: =D32-E32 -> -771.36 | I32: =+H32/E32 -> -0.038461538 | K32: =#REF!-#REF! -> #REF! | L32: =+K32/#REF! -> #REF!
B33: Watersport Contribution | D33: 0 | E33: 0 | F33: 0 | K33: =#REF!-#REF! -> #REF!
B34: Maintenance Revenue | D34: 97226 | E34: 145102.4 | F34: 156242.84 | H34: =D34-E34 -> -47876.4 | I34: =+H34/E34 -> -0.32994906 | K34: =#REF!-#REF! -> #REF! | L34: =+K34/#REF! -> #REF!
B35: Income from water | D35: 4497.52 | E35: 5470 | F35: 5328.49 | H35: =D35-E35 -> -972.48 | I35: =+H35/E35 -> -0.17778428 | K35: =#REF!-#REF! -> #REF! | L35: =+K35/#REF! -> #REF!
B36: Income from power | D36: 11835.05 | E36: 16839.9 | F36: 15063.99 | H36: =D36-E36 -> -5004.85 | I36: =+H36/E36 -> -0.29720188 | K36: =#REF!-#REF! -> #REF! | L36: =+K36/#REF! -> #REF!
B37: Income from cable | D37: 5830.12 | E37: 4500 | F37: 3966.5 | H37: =D37-E37 -> 1330.12 | I37: =+H37/E37 -> 0.29558222 | K37: =#REF!-#REF! -> #REF! | L37: =+K37/#REF! -> #REF!
B38: Income from pest control | D38: -5265 | E38: 105 | F38: -1061.92 | H38: =D38-E38 -> -5370 | I38: =+H38/E38 -> -51.142857 | K38: =#REF!-#REF! -> #REF! | L38: =+K38/#REF! -> #REF!
B39: Other Income | D39: 2100 | E39: 2100 | F39: 2198.16 | H39: =D39-E39 -> 0 | K39: =#REF!-#REF! -> #REF!
B40: Interest Income | D40: 867.3 | E40: 1620 | H40: =D40-E40 -> -752.7 | K40: =#REF!-#REF! -> #REF! | L40: =+K40/#REF! -> #REF!
B41: TOTAL REVENUES | D41: =SUM(D31:D40) -> 821562.99 | E41: =SUM(E31:E40) -> 945780.18 | F41: =SUM(F31:F40) -> 886156.06 | H41: =D41-E41 -> -124217.19 | I41: =+H41/E41 -> -0.13133833 | K41: =#REF!-#REF! -> #REF! | L41: =+K41/#REF! -> #REF!
B43: PAYROLL EXPENSES
B44: Security Payroll | D44: 49596.27 | E44: 56008.502 | F44: 60086.95 | H44: =D44-E44 -> -6412.2323 | I44: =+H44/E44 -> -0.11448677 | K44: =#REF!-#REF! -> #REF! | L44: =+K44/#REF! -> #REF!
B45: Supplemental pay | D45: 3671.59 | E45: 4296 | F45: 4867.83 | H45: =D45-E45 -> -624.41 | I45: =+H45/E45 -> -0.14534683 | K45: =#REF!-#REF! -> #REF! | L45: =+K45/#REF! -> #REF!
B46: Employee meals | D46: 5855.26 | E46: 5500.2 | F46: 3968.63 | H46: =D46-E46 -> 355.06 | I46: =+H46/E46 -> 0.064554016 | K46: =#REF!-#REF! -> #REF! | L46: =+K46/#REF! -> #REF!
...

Sheet Var 2025
B2: Strata Plans # 50 Income statement YTD 2025
B3: Variance analysis actual to budget
C4: Positive | D4: Negative
C5: variances | D5: variances
B6: INCOME | C6: to budget | D6: to budget
B7: Maintenance Revenues | D7: -47876
B8: Strata Fees | D8: =-64800-771 -> -65571 | F8: Strata fees will be billed out for the remainder of the year commencing May 2025
B9: Others | D9: =-5370-753 -> -6123
B10: Income from utilities | D10: =-972-5005+1330 -> -4647
B12: Total Income | C12: =SUM(C7:C10) -> 0 | D12: =SUM(D7:D10) -> -124217
C13: =D12+C12 -> -124217
B15: EXPENSES
F16: Higher expenses direclty
B17: Maintenance supplies & expenses | C17: -54224 | F17: related to higher revenues
B18: Work permits | C18: -9469
B19: Security payroll (internal & external) | C19: =-5863-3267 -> -9130
B20: Pool & Beach supplies & furniture | C20: =-7136/2-1012 -> -4580
B21: Maintenance & Ground payroll | C21: =-3886 -> -3886
B22: Power | C22: =-3780 -> -3780
B23: Water | C23: =-2242 -> -2242
B24: Pool & Beach Laundry | C24: =-2862/2 -> -1431
B25: Watersports Repair | C25: -1064
B26: Pool repair | C26: -600
B27: Pool & Beach payroll | D27: 4990
B28: Other expenses A&G | D28: =158-928+1849-2-1 -> 1076
B29: Gas/ Propane | D29: =1675 -> 1675
B30: Common Area Payroll & expenses | D30: 549
B33: Total Expenses | C33: =SUM(C17:C26) -> -90406 | D33: =SUM(D21:D30) -> 8290
D34: =C33+D33 -> -82116
B36: Total variance | C36: =C13-D34 -> -42101
B40: Travel expense - expense for the board to travel for AGM annually
B41: Other expense - WB auditing firm financial review accrual - $562.50 and 330 for seascape parking lot for staff monthly rental
B42: Accrual - WB Financials for FY 23 & 24, (no review was done a decision to be made), and Travel expense accrual for board (funds used in 2024 by the board was $3,500)
B44: Monogram fridges cost $14,478
B45: Water heater cost $1,260

Sheet Strata Fees Impact - 2025

Sheet Bal Sheet Q1 2025
A1: PROPRIETORS STRATA PLAN # 50
A2: Balance sheet as of March 31, 2025
C3: SAP | D3: SAP | E3: SAP | F3: ACCPAC | G3: ACCPAC | I3: ACCPAC
C4: Ending Balance | D4: Net Activity 10/00 | E4: Net Activity 10/00 | F4: Ending Balance | G4: Ending Balance | I4: Variance Balance
C5: 36799 | D5: DR | E5: CR | F5: 45747 | G5: 45716
A6: Account | B6: Description
A7: ========= | B7: ================================== | C7: ================= | D7: =================== | E7: ==================== | F7: ============= | G7: =============
B9: CASH | F9: =SUM(F10:F12) -> 693876.9 | G9: 693009.6 | I9: =+F9-G9 -> 867.3
A10: 101030-01 | B10: OPERATING ACCOUNT | F10: 5118.71 | G10: 5118.71 | I10: =+F10-G10 -> 0
A11: 101036-01 | B11: DEPOSIT ACCOUNT (1 YEAR) | I11: =+F11-G11 -> 0
A12: 101037-01 | B12: DEPOSIT ACCOUNT (30 DAYS) | F12: 688758.19 | G12: 687890.89 | I12: =+F12-G12 -> 867.3
I13: =+F13-G13 -> 0
B14: OTHER RECEIVABLES | F14: =SUM(F15:F19) -> -49076.55 | G14: -57386.18 | I14: =+F14-G14 -> 8309.63
A15: 111050-01 | B15: RECEIVABLE SOMERSET (WWTP) | F15: 3684.7 | G15: 3773.34 | I15: =+F15-G15 -> -88.64
A16: 111051-01 | B16: OWNER RECEIVABLES | H16: Paid by ER | I16: =+F16-G16 -> 0
A17: 111052-01 | B17: PERGOLA PROJECT - CLEARING ACCOUNT | I17: =+F17-G17 -> 0
A18: 111053-01 | B18: GILLEN HALL DESIGN PROJECT - CLEARING ACCOUNT
A19: 111070-01 | B19: INTERCOMPANY MANAGEMENT CO | F19: =-52761.25 -> -52761.25 | G19: -61159.52 | I19: =+F19-G19 -> 8398.27
B21: INVENTORIES | F21: =SUM(F22:F23) -> 181495.41 | G21: 181124.07 | I21: =+F21-G21 -> 371.34
A22: 123058-01 | B22: ENGINEERING INVENTORY | F22: 130895.48 | G22: 130524.14 | I22: =+F22-G22 -> 371.34
A23: 124010-01 | B23: HURRICANE INVENTORY | F23: 50599.93 | G23: 50599.93 | I23: =+F23-G23 -> 0
B25: PREPAIDS | F25: =SUM(F26:F27) -> 17246.1 | G25: 19475.22 | I25: =+F25-G25 -> -2229.12
A26: 130001-01 | B26: PREPAID INSURANCE | F26: 8349.99 | G26: 9184.9 | I26: =+F26-G26 -> -834.91
A27: 130009-01 | B27: PREPAID OTHERS | F27: 8896.11 | G27: 10290.32 | I27: =+F27-G27 -> -1394.21
B29: DEPOSITS | F29: 30420 | G29: 30420 | I29: =+F29-G29 -> 0
A30: 131001-01 | B30: DEPOSITS VENDORS | G30: 30420 | I30: =+F30-G30 -> -30420
I31: =+F31-G31 -> 0
B32: OTHER ASSETS | F32: =SUM(F33:F33) -> 0 | G32: 0 | I32: =+F32-G32 -> 0
A33: 259010-01 | B33: ACCRUED OTHER EXPENSES | F33: 0 | G33: 0 | I33: =+F33-G33 -> 0
I34: =+F34-G34 -> 0
I35: =+F35-G35 -> 0
B36: TOTAL ASSETS | F36: =F9+F14+F21+F25+F29 -> 873961.86 | G36: 866642.71 | I36: =+F36-G36 -> 7319.15
B38: TRADE PAYABLES | F38: =SUM(F39) -> 0 | G38: 0 | I38: =+F38-G38 -> 0
A39: 111070-01 | B39: INTERCOMPANY MANAGEMENT CO | I39: =+F39-G39 -> 0
I40: =+F40-G40 -> 0
B41: ACCRUED EXPENSES | F41: =SUM(F42:F43) -> 26300.74 | G41: 23085.27 | I41: =+F41-G41 -> 3215.47
A42: 252001-01 | B42: ACCRUED SALARIES/WAGES | F42: 6679.78 | G42: 4493.48 | I42: =+F42-G42 -> 2186.3
A43: 259010-01 | B43: ACCRUED OTHERS | F43: 19620.96 | G43: 18591.79 | I43: =+F43-G43 -> 1029.17
B45: DEPOSITS/DEFERRED INCOME | F45: =SUM(F46:F46) -> 0 | G45: 0 | I45: =+F45-G45 -> 0
I46: =+F46-G46 -> 0
...

Sheet Capital Q1 2025
C2: PROPRIETORS STRATA PLAN # 50
C4: CAPITAL EXPENDITURES - 2025 BUDGET
B6: PROJECT # | C6: CAPITAL RESERVE FUND | E6: Budget | G6: Actual | I6: Forecast | K6: Forecast | M6: Variance
E7: 2025 | G7: March YTD 2025 | I7: remainder | K7: Total year | M7: to Budget | O7: Comments
