Workbook
Name ENERO: #REF!
Name ENERO: #REF!
Name ENERO: #REF!
Name ENERO: #REF!
Name rptacctgroupend: "ZZZZZZZZZZZZ"
Name rptacctgroupselect: 0
Name rptacctgroupstart: " "
Name rptacctidend: "ZZZZZZZZZZZZZZZZZZZZZZZZZZZZZZZZZZZZZZZZZZZZZ"
Name rptacctidstart: " "
Name rptcurr1: " "
Name rptcurr10: " "
Name rptcurr2: " "
Name rptcurr3: " "
Name rptcurr4: " "
Name rptcurr5: " "
Name rptcurr6: " "
Name rptcurr7: " "
Name rptcurr8: " "
Name rptcurr9: " "
Name rptgroupend: 16
Name rptgroupstart: 1
Name rptorderby: 2
Name rptorderbysegid: 1
Name rptperiod: 6
Name rptprovtype: 1
Name rptrange1: "ACCTGRPCOD <= ""ZZZZZZZZZZZZ"""
Name rptsegend1: "ZZZZZZ"
Name rptsegend10: " "
Name rptsegend2: "ZZ"
Name rptsegend3: " "
Name rptsegend4: " "
Name rptsegend5: " "
Name rptsegend6: " "
Name rptsegend7: " "
Name rptsegend8: " "
Name rptsegend9: " "
Name rptsegoption1: 1
Name rptsegoption10: 0
Name rptsegoption2: 1
Name rptsegoption3: 0
Name rptsegoption4: 0
Name rptsegoption5: 0
Name rptsegoption6: 0
Name rptsegoption7: 0
Name rptsegoption8: 0
Name rptsegoption9: 0
Name rptsegstart1: " "
Name rptsegstart10: " "
Name rptsegstart2: " "
Name rptsegstart3: " "
Name rptsegstart4: " "
Name rptsegstart5: " "
Name rptsegstart6: " "
Name rptsegstart7: " "
Name rptsegstart8: " "
Name rptsegstart9: " "
Name rptsortgroupend: "ZZZZZZZZZZZZ"
Name rptsortgroupstart: " "
Name rptyear: 2018
Name spec: #REF!

Sheet Projected 2022 Income Statement
N1: 1
AB2: 12 | AD2: 1 | AE2: January 2022 | AI2: 1
AD3: 2 | AE3: February 2022
K4: Proprietors of Strata Plan # 125 | AD4: 3 | AE4: March 2022
N5: Financial Statement | Y5: =VLOOKUP(AB2,AD2:AF52,2) -> December 2022 | AD5: 4 | AE5: April 2022
AD6: 5 | AE6: May 2022
B7: 1 | D7: 1 | F7: 1 | H7: 1 | Q7: 1 | S7: 1 | U7: 1 | AD7: 6 | AE7: June 2022
AD8: 7 | AE8: July 2022
AD9: 8 | AE9: August 2022
AD10: 9 | AE10: September 2022
D11: monthly | K11: variance | N11: SUMMARY STATEMENT | Q11: year-to-date | X11: variance | AD11: 10 | AE11: October 2022
A12: =#REF! -> #REF! | D12: Forecast | E12: % | F12: Budget | G12: % | H12: Last Year | I12: % | K12: to bud | L12: to LY | Q12: =D12 -> Forecast | R12: % | S12: Budget | T12: % | U12: Last Year | V12: % | X12: to bud | Y12: to LY | AD12: 11 | AE12: November 2022
A13: =#REF! -> #REF! | AD13: 12 | AE13: December 2022
A14: =#REF! -> #REF! | B14: SUM100 | D14: 192935.29 | E14: =D14/D$17 -> 1 | F14: 177403.83 | G14: 1 | H14: 199660.75 | I14: 1 | K14: =D14-F14 -> 15531.46 | L14: =D14-H14 -> -6725.46 | O14: Revenues | Q14: 2244677.9 | R14: =Q14/Q$17 -> 1 | S14: 2106846 | T14: 1 | U14: 1910535.7 | V14: 1 | X14: =Q14-S14 -> 137831.97 | Y14: =Q14-U14 -> 334142.27
A15: =#REF! -> #REF!
A16: =#REF! -> #REF!
A17: =#REF! -> #REF! | B17: SUM 400 | D17: 192935.29 | E17: =D17/D$17 -> 1 | F17: 177403.83 | G17: 1 | H17: 199660.75 | I17: 1 | K17: =D17-F17 -> 15531.46 | L17: =D17-H17 -> -6725.46 | O17: TOTAL REVENUES | Q17: =Q14 -> 2244677.9 | R17: =Q17/Q$17 -> 1 | S17: 2106846 | T17: 1 | U17: 1910535.7 | V17: 1 | X17: =Q17-S17 -> 137831.97 | Y17: =Q17-U17 -> 334142.27
A18: =#REF! -> #REF!
A19: =#REF! -> #REF!
A20: =#REF! -> #REF! | B20: SUM500 | D20: 67687.056 | E20: =D20/D$65 -> 0.35082776 | F20: 58832 | G20: 0.33162756 | H20: 61542.95 | I20: 0.3082376 | K20: =D20-F20 -> 8855.056 | L20: =D20-H20 -> 6144.106 | O20: Administration & General | Q20: 756320 | R20: =Q20/Q$65 -> 0.3369392 | S20: 700220 | T20: 0.33235463 | U20: 719578.32 | V20: 0.37663695 | X20: =Q20-S20 -> 56099.996 | Y20: =Q20-U20 -> 36741.676
A21: =#REF! -> #REF! | B21: SUM600 | D21: 85004.944 | E21: =D21/D$65 -> 0.44058784 | F21: 62335 | G21: 0.35137347 | H21: 127390.47 | I21: 0.63803462 | K21: =D21-F21 -> 22669.944 | L21: =D21-H21 -> -42385.526 | O21: Maintenance | Q21: 861759.71 | R21: =Q21/Q$65 -> 0.38391241 | S21: 734938 | T21: 0.34883329 | U21: 774005.18 | V21: 0.4051247 | X21: =Q21-S21 -> 126821.71 | Y21: =Q21-U21 -> 87754.534
A22: =#REF! -> #REF! | B22: SUM700 | D22: 29774.8 | E22: =D22/D$65 -> 0.15432532 | F22: 32615 | G22: 0.18384609 | H22: 28931.89 | I22: 0.14490525 | K22: =D22-F22 -> -2840.2 | L22: =D22-H22 -> 842.91 | O22: Pool & Beach | Q22: 355957.31 | R22: =Q22/Q$65 -> 0.15857834 | S22: 384219 | T22: 0.18236692 | U22: 371498.51 | V22: 0.19444731 | X22: =Q22-S22 -> -28261.69 | Y22: =Q22-U22 -> -15541.205
A23: =#REF! -> #REF! | B23: SUM800 | D23: 5626.85 | E23: =D23/D$65 -> 0.029164442 | F23: 5883 | G23: 0.033161629 | H23: 6338.53 | I23: 0.0317465 | K23: =D23-F23 -> -256.15 | L23: =D23-H23 -> -711.68 | O23: Common Areas | Q23: 66325.49 | R23: =Q23/Q$65 -> 0.029547887 | S23: 70596 | T23: 0.033507908 | U23: 66839.08 | V23: 0.034984471 | X23: =Q23-S23 -> -4270.51 | Y23: =Q23-U23 -> -513.59
A24: =#REF! -> #REF! | B24: SUM900 | D24: 33146.185 | E24: =D24/D$65 -> 0.17179949 | F24: 19100 | G24: 0.10766397 | H24: 21367.67 | I24: 0.10701988 | K24: =D24-F24 -> 14046.185 | L24: =D24-H24 -> 11778.515 | O24: Utilities | Q24: 270641.46 | R24: =Q24/Q$65 -> 0.12057028 | S24: 217200 | T24: 0.10309249 | U24: 194397.68 | V24: 0.10175035 | X24: =Q24-S24 -> 53441.455 | Y24: =Q24-U24 -> 76243.775
A25: =#REF! -> #REF!
A26: =#REF! -> #REF!
A27: =#REF! -> #REF! | B27: SUM1000 | D27: 221239.83 | E27: =D27/D$65 -> 1.1467049 | F27: 178765 | G27: 1.0076727 | H27: 245571.51 | I27: 1.2299438 | K27: =D27-F27 -> 42474.835 | L27: =D27-H27 -> -24331.675 | O27: TOTAL EXPENSES | Q27: 2311004 | R27: =Q27/Q$65 -> 1.0295481 | S27: 2107173 | T27: 1.0001552 | U27: 2126318.8 | V27: 1.1129438 | X27: =Q27-S27 -> 203830.96 | Y27: =Q27-U27 -> 184685.19
A28: =#REF! -> #REF!
A29: =#REF! -> #REF!
A30: =#REF! -> #REF! | B30: INS100 | D30: 0 | E30: =D30/D$65 -> 0 | F30: 0 | G30: 0 | H30: 0 | I30: 0 | K30: =D30-F30 -> 0 | L30: =D30-H30 -> 0 | O30: Insurance Assessment | Q30: -636081 | R30: =Q30/Q$65 -> -0.28337295 | S30: -528108 | T30: -0.25066284 | U30: 0 | V30: 0 | X30: =Q30-S30 -> -107973 | Y30: =Q30-U30 -> -636081
A31: =#REF! -> #REF! | B31: INS200 | D31: 0 | E31: =D31/D$65 -> 0 | F31: 0 | G31: 0 | H31: 0 | I31: 0 | K31: =D31-F31 -> 0 | L31: =D31-H31 -> 0 | O31: Insurance Expenses | Q31: 636081 | R31: =Q31/Q$65 -> 0.28337295 | S31: 528108 | T31: 0.25066284 | U31: 0 | V31: 0 | X31: =Q31-S31 -> 107973 | Y31: =Q31-U31 -> 636081
A32: =#REF! -> #REF! | B32: NS300 | D32: 0 | E32: =D32/D$65 -> 0 | F32: 0 | G32: 0 | H32: 0 | I32: 0 | K32: =D32-F32 -> 0 | L32: =D32-H32 -> 0 | O32: Management Fee | Q32: 0 | R32: =Q32/Q$65 -> 0 | S32: 0 | T32: 0 | U32: 0 | V32: 0 | X32: =Q32-S32 -> 0 | Y32: =Q32-U32 -> 0
A33: =#REF! -> #REF!
A34: =#REF! -> #REF!
A35: =#REF! -> #REF! | B35: INS400 | D35: 0 | E35: =D35/D$65 -> 0 | F35: 0 | G35: 0 | H35: 0 | I35: 0 | K35: =D35-F35 -> 0 | L35: =D35-H35 -> 0 | O35: TOTAL INSURANCE | Q35: 0 | R35: =Q35/Q$65 -> 0 | S35: 0 | T35: 0 | U35: 0 | V35: 0 | X35: =Q35-S35 -> 0 | Y35: =Q35-U35 -> 0
A36: =#REF! -> #REF!
A37: =#REF! -> #REF!
A38: =#REF! -> #REF! | B38: RES200 | D38: -34559.15 | E38: =D38/D$65 -> -0.17912301 | F38: -34559.15 | G38: -0.19480498 | H38: -34559.15 | I38: -0.17308935 | K38: =D38-F38 -> 0 | L38: =D38-H38 -> 0 | O38: Reserve Assessment | Q38: -414709.8 | R38: =Q38/Q$65 -> -0.18475247 | S38: -414709.8 | T38: -0.19683917 | U38: -153540.13 | V38: -0.080364964 | X38: =Q38-S38 -> 0 | Y38: =Q38-U38 -> -261169.67
A39: =#REF! -> #REF! | B39: RES300 | D39: 34559.15 | E39: =D39/D$65 -> 0.17912301 | F39: 34559.15 | G39: 0.19480498 | H39: 34559.15 | I39: 0.17308935 | K39: =D39-F39 -> 0 | L39: =D39-H39 -> 0 | O39: Reserve Fund | Q39: 414709.8 | R39: =Q39/Q$65 -> 0.18475247 | S39: 414709.8 | T39: 0.19683917 | U39: 153540.13 | V39: 0.080364964 | X39: =Q39-S39 -> 0 | Y39: =Q39-U39 -> 261169.67
A40: =#REF! -> #REF!
...

Sheet Strata 125 BS Nov 2022 
A1: THE SHORE CLUB STRATA PLAN #125
A2: Balance sheet as of November 30, 2022
B3: Ending Balance | C3: Ending Balance | D3: Variance | E3: COMMENTS
B4: 44895 | C4: 44530
A5: Account Description
A6: ================================== | B6: ============= | C6: ============= | D6: ================= | E6: =============================================================
A8: CASH | B8: =B9 -> 300000 | C8: =C9 -> 0 | D8: =D9 -> 300000
A9: Term Deposit Held in Trust | B9: =200000+100000 -> 300000 | C9: 0 | D9: =B9-C9 -> 300000
A11: OTHER RECEIVABLES | B11: =SUM(B12:B13) -> 15337.51 | C11: =SUM(C12:C14) -> 293493.25 | D11: =B11-C11 -> -278155.74
A12: VILLA CLUB | B12: -52817.02 | C12: -95251.61 | D12: =B12-C12 -> 42434.59 | E12: Villa Club account tracks actual costs allocated to the Villas versus the amount billed to the Villa owners. The amount billed to owners will be adjusted during the year according to any excess or shortfall of funding.
A13: INTERCOMPANY MANAGEMENT CO | B13: 68154.53 | C13: 388744.86 | D13: =B13-C13 -> -320590.33
A16: INVENTORIES | B16: =SUM(B17:B19) -> 315111.8 | C16: =SUM(C17:C19) -> 242119.02 | D16: =B16-C16 -> 72992.78
A17: ENGINEERING INVENTORY | B17: 295359.11 | C17: 218055.82 | D17: =B17-C17 -> 77303.29
A18: OWNER UNIT SUPPLIES | C18: 0 | D18: =B18-C26 -> 0
A19: HURRICANE INVENTORY | B19: 19752.69 | C19: 24063.2 | D19: =B19-C19 -> -4310.51
A21: OTHER ASSETS | B21: =SUM(B22:B24) -> 6802.51 | C21: =SUM(C22:C24) -> 8467.5 | D21: =B21-C21 -> -1664.99
A22: PREPAID INSURANCE | B22: 6802.51 | C22: 8467.5 | D22: =B22-C22 -> -1664.99
A23: PREPAID OTHER | D23: =B23-C23 -> 0
A24: PREPAID OTHER | C24: 0 | D24: =B24-C24 -> 0
A25: TOTAL ASSETS | B25: =B11+B16+B21+B8 -> 637251.82 | C25: =C11+C16+C21+C8 -> 544079.77 | D25: =D11+D16+D21+D8 -> 93172.05
A27: ACCRUED EXPENSES | B27: =SUM(B28:B34) -> 39600.53 | C27: =SUM(C28:C34) -> 22623.58 | D27: =B27-C27 -> 16976.95
A28: EMPLOYEE INSURANCE | B28: 0 | C28: 0 | D28: =B28-C28 -> 0
A29: MISC DEDUCTIONS | B29: 0 | C29: 0 | D29: =B29-C29 -> 0
A30: ACCRUED VACATION | B30: 18493.72 | C30: 10086.91 | D30: =B30-C30 -> 8406.81
A31: ACCRUED SALARIES/WAGES | B31: 21106.81 | C31: 12536.67 | D31: =B31-C31 -> 8570.14
A32: ACCRUED LEGAL | C32: 0 | D32: =B32-C32 -> 0
A33: ACCRUED OTHER EXPENSES | C33: 0 | D33: =B33-C33 -> 0
A34: Accrued Reserve Fund | B34: 0 | C34: 0 | D34: =B34-C34 -> 0
A36: OWNERS EQUITY | B36: =SUM(B37:B39) -> 597651.29 | C36: =SUM(C37:C39) -> 521456.19 | D36: =B36-C36 -> 76195.1
A37: RESERVE FUNDS | B37: 469263.19 | C37: 218013.24 | D37: =B37-C37 -> 251249.95
A38: RETAINED EARNINGS | B38: 166409.58 | C38: 482193.34 | D38: =B38-C38 -> -315783.76
A39: CURRENT YEAR | B39: -38021.48 | C39: -178750.39 | D39: =B39-C39 -> 140728.91
A41: TOTAL LIABILITIES & OWNERS EQUITY | B41: =B27+B36 -> 637251.82 | C41: =C27+C36 -> 544079.77 | D41: =B41-C41 -> 93172.05
A44: CONTROL | B44: =B25-B41 -> 0 | C44: =C25-C41 -> 0 | D44: =B44-C44 -> 0
B45: =B25-B41 -> 0 | C45: =C25-C41 -> 0

Sheet Strata 125 2022 Reserve funding
B2: Proprietors of Strata Plan #125
B4: Reserve fundings - 30 November 2022
B7: Reserve Funds (equity) | C7: ='Strata 125 BS Nov 2022 '!B37 -> 469263.19
B8: Reserve Funds (term deposits funded) | C8: -300000
B9: Balance to be funded before adjustements (A) | C9: =SUM(C7:C8) -> 169263.19
B11: Inventories advanced by Management Co. | C11: =-'Strata 125 BS Nov 2022 '!B16 -> -315111.8
B12: Retained earnings held by Management Co. | C12: ='Strata 125 BS Nov 2022 '!B38 -> 166409.58
B13: Current earnings advanced by Management Co. | C13: ='Strata 125 BS Nov 2022 '!B39 -> -38021.48
C14: 0
C15: 0
B16: Total cash adjustments (B) | C16: =SUM(C11:C15) -> -186723.7
B18: Term deposit to be funded (A+B) | C18: =C9+C16 -> -17460.51
B19: rounded =) | C19: 0

Sheet 2023 Strata #125 Budget
B1: 1
C3: Proprietors of Strata Plan # 125
C4: Financial Statements
I6: 1 | K6: 1 | M6: 1 | O6: 1 | Q6: 1
B10: SUMMARY STATEMENT | S10: Variance | V10: Variance
E11: Budget 2023 | F11: % | G11: Forecast 2022 | H11: % | I11: Actual 2021 | J11: % | K11: Actual 2020 | L11: % | M11: Actual 2019 | N11: % | O11: Actual 2018 | P11: % | Q11: Actual 2017 | R11: % | S11: 2023/2022 | T11: % | V11: 2023/2021 | W11: %
C14: Revenues | E14: =E65 -> 2500224.5 | F14: 1 | G14: =G65 -> 2244677.9 | H14: 1 | I14: 1910535.7 | J14: 1 | K14: 1827895.6 | L14: 1 | M14: 2015435.2 | N14: 1 | O14: 1812971 | P14: 1 | Q14: 1688848 | R14: 1 | S14: =E14-G14 -> 255546.56 | T14: =S14/G14 -> 0.11384553 | V14: =E14-I14 -> 589688.83 | W14: =V14/I14 -> 0.30865104
C17: TOTAL REVENUES | E17: =SUM(E14:E16) -> 2500224.5 | F17: 1 | G17: =SUM(G14:G16) -> 2244677.9 | H17: 1 | I17: =SUM(I14:I16) -> 1910535.7 | J17: 1 | K17: =SUM(K14:K16) -> 1827895.6 | L17: 1 | M17: =SUM(M14:M16) -> 2015435.2 | N17: 1 | O17: =SUM(O14:O16) -> 1812971 | P17: 1 | Q17: =SUM(Q14:Q16) -> 1688848 | R17: 1 | S17: =E17-G17 -> 255546.56 | T17: =S17/G17 -> 0.11384553 | V17: =E17-I17 -> 589688.83 | W17: =V17/I17 -> 0.30865104
C20: Administration & General | E20: =E99 -> 840804.24 | F20: 0.3362915 | G20: =G99 -> 756320 | H20: 0.37663695 | I20: 719578.32 | J20: 0.29781411 | K20: 544373.11 | L20: 0.31621981 | M20: 637320.55 | N20: 0.33086796 | O20: 608071 | P20: 0.33086796 | Q20: 643672 | R20: 0.33086796 | S20: =E20-G20 -> 84484.24 | T20: =S20/G20 -> 0.11170436 | V20: =E20-I20 -> 121225.92 | W20: =V20/I20 -> 0.16846799
C21: Maintenance | E21: =E146 -> 904950.2 | F21: 0.36194758 | G21: =G146 -> 861759.71 | H21: 0.4051247 | I21: 774005.18 | J21: 0.27924147 | K21: 510424.26 | L21: 0.36419277 | M21: 734006.93 | N21: 0.34481257 | O21: 578011 | P21: 0.34481257 | Q21: 559890 | R21: 0.34481257 | S21: =E21-G21 -> 43190.485 | T21: =S21/G21 -> 0.050118942 | V21: =E21-I21 -> 130945.02 | W21: =V21/I21 -> 0.16917848
C22: Pool & Beach | E22: =E185 -> 392210.59 | F22: 0.15687015 | G22: =G185 -> 355957.31 | H22: 0.19444731 | I22: 371498.52 | J22: 0.10076485 | K22: 184187.62 | L22: 0.17781562 | M22: 358375.86 | N22: 0.17756412 | O22: 287113 | P22: 0.17756412 | Q22: 167212 | R22: 0.17756412 | S22: =E22-G22 -> 36253.281 | T22: =S22/G22 -> 0.10184727 | V22: =E22-I22 -> 20712.076 | W22: =V22/I22 -> 0.055752783
C23: Common Areas | E23: =E209 -> 71941.579 | F23: 0.028774048 | G23: =G209 -> 66325.49 | H23: 0.034984471 | I23: 66839.08 | J23: 0.024605366 | K23: 44976.04 | L23: 0.029853984 | M23: 60168.77 | N23: 0.030557502 | O23: 59625 | P23: 0.030557502 | Q23: 57121 | R23: 0.030557502 | S23: =E23-G23 -> 5616.0891 | T23: =S23/G23 -> 0.084674672 | V23: =E23-I23 -> 5102.4991 | W23: =V23/I23 -> 0.076340056
C24: Utilities | E24: =E222 -> 290312.61 | F24: 0.11611462 | G24: =G222 -> 270641.46 | H24: 0.10175035 | I24: 194397.68 | J24: 0.1203815 | K24: 220044.81 | L24: 0.11218981 | M24: 226111.3 | N24: 0.11554991 | O24: 223068 | P24: 0.11554991 | Q24: 183212 | R24: 0.11554991 | S24: =E24-G24 -> 19671.151 | T24: =S24/G24 -> 0.072683435 | V24: =E24-I24 -> 95914.926 | W24: =V24/I24 -> 0.49339542
C27: TOTAL EXPENSES | E27: =SUM(E20:E26) -> 2500219.2 | F27: 0.99999789 | G27: =SUM(G20:G26) -> 2311004 | H27: 1.1129438 | I27: =SUM(I20:I26) -> 2126318.8 | J27: 0.8228073 | K27: =SUM(K20:K26) -> 1504005.8 | L27: 1.000272 | M27: =SUM(M20:M26) -> 2015983.4 | N27: 0.99935207 | O27: =SUM(O20:O26) -> 1755888 | P27: 0.99935207 | Q27: =SUM(Q20:Q26) -> 1611107 | R27: 0.99935207 | S27: =E27-G27 -> 189215.25 | T27: =S27/G27 -> 0.081875777 | V27: =E27-I27 -> 373900.44 | W27: =V27/I27 -> 0.17584402
C30: Insurance Assessment | E30: -636081 | F30: -0.25440956 | G30: -636081 | H30: -0.27678625 | I30: -528108 | J30: 0 | K30: -528108 | L30: 0 | M30: 0 | N30: 0 | O30: 0 | P30: 0 | Q30: 0 | R30: 0 | S30: =E30-G30 -> 0 | T30: =S30/G30 -> 0 | V30: =E30-I30 -> -107973 | W30: =V30/I30 -> 0.2044525
C31: Insurance Expenses | E31: 636081 | F31: 0.25440956 | G31: 636081 | H31: 0.27678625 | I31: 528108 | J31: 0 | K31: 528108 | L31: 0 | M31: 0 | N31: 0 | O31: 0 | P31: 0 | Q31: 0 | R31: 0 | S31: =E31-G31 -> 0 | T31: =S31/G31 -> 0 | V31: =E31-I31 -> 107973 | W31: =V31/I31 -> 0.2044525
C32: Management Fee | E32: 0 | F32: 0 | G32: 0 | H32: 0 | I32: 0 | J32: 0 | K32: 0 | L32: 0 | M32: 0 | N32: 0 | O32: 0 | P32: 0 | Q32: 0 | R32: 0 | S32: =E32-G32 -> 0 | V32: =E32-I32 -> 0
C35: TOTAL INSURANCE | E35: 0 | F35: 0 | G35: 0 | H35: 0 | I35: 0 | J35: 0 | K35: 0 | L35: 0 | M35: 0 | N35: 0 | O35: 0 | P35: 0 | Q35: 0 | R35: 0 | S35: =E35-G35 -> 0 | V35: =E35-I35 -> 0
C38: Reserve Assessment | E38: -414709.8 | F38: -0.16586903 | G38: -414709.8 | H38: -0.080364964 | I38: -153540.13 | J38: 0.038624646 | K38: -70601.82 | L38: 0.15632981 | M38: -315072.6 | N38: 0.15264827 | O38: 0 | P38: 0.15264827 | Q38: 0 | R38: 0.15264827 | S38: =E38-G38 -> 0 | T38: =S38/G38 -> 0 | V38: =E38-I38 -> -261169.67 | W38: =V38/I38 -> 1.7009864
C39: Reserve Fund | E39: 414709.8 | F39: 0.16586903 | G39: 414709.8 | H39: 0.080364964 | I39: 153540.13 | J39: -0.038624646 | K39: 70601.82 | L39: -0.15632981 | M39: 315072.6 | N39: -0.15264827 | O39: 0 | P39: -0.15264827 | Q39: 0 | R39: -0.15264827 | S39: =E39-G39 -> 0 | T39: =S39/G39 -> 0 | V39: =E39-I39 -> 261169.67 | W39: =V39/I39 -> 1.7009864
F40: 0 | H40: 0
C42: TOTAL RESERVE FUND | E42: 0 | F42: 0 | G42: 0 | H42: 0 | I42: 0 | J42: 0 | K42: 0 | L42: 0 | M42: 0 | N42: 0 | O42: 0 | P42: 0 | Q42: 0 | R42: 0 | S42: =E42-G42 -> 0 | V42: =E42-I42 -> 0
C44: PROFIT / (LOSS) | E44: =E17-E27 -> 5.2763787 | F44: 2.110362e-06 | G44: =G17-G27 -> -66326.035 | H44: -0.11294378 | I44: =I17-I27 -> -215783.12 | J44: 0.1771927 | K44: =K17-K27 -> 323889.76 | L44: -0.00027199584 | M44: =M17-M27 -> -548.19 | N44: 0.00064793221 | O44: =O17-O27 -> 57083 | P44: 0.00064793221 | Q44: =Q17-Q27 -> 77741 | R44: 0.00064793221 | S44: =E44-G44 -> 66331.311 | T44: =S44/G44 -> -1.0000796 | V44: =E44-I44 -> 215788.39 | W44: =V44/I44 -> -1.0000245
B49: REVENUES
E50: =E11 -> Budget 2023 | F50: % | G50: =G$11 -> Forecast 2022 | H50: =H$11 -> % | I50: =I11 -> Actual 2021 | J50: % | K50: =K11 -> Actual 2020 | L50: % | M50: =M11 -> Actual 2019 | N50: % | O50: =O11 -> Actual 2018 | P50: % | Q50: =Q11 -> Actual 2017 | R50: % | S50: =S11 -> 2023/2022 | V50: =V11 -> 2023/2021
C52: Strata Fees | E52: 1797324.9 | F52: 0.71886539 | G52: 1579663.1 | H52: 0.70279425 | I52: 1342713.5 | J52: 0.84259434 | K52: 1540174.5 | L52: 0.78378261 | M52: 1579663.1 | N52: 0.76532467 | O52: 1579663 | P52: 0.76532467 | Q52: 1577334 | R52: 0.76532467 | S52: =E52-G52 -> 217661.78 | T52: =S52/G52 -> 0.13779 | V52: =E52-I52 -> 454611.38 | W52: =V52/I52 -> 0.33857661
C53: Strata Storage Fees | E53: 2000 | F53: 0.00079992817 | G53: 2000 | H53: 0 | I53: 0 | J53: 0.0005470772 | K53: 1000 | L53: 0 | M53: 0 | N53: 0 | O53: 2000 | P53: 0 | Q53: 0 | R53: 0 | S53: =E53-G53 -> 0 | T53: =S53/G53 -> 0 | V53: =E53-I53 -> 2000
C54: Watersport Contribution | E54: 0 | F54: 0 | G54: 0 | H54: 0 | I54: 0 | J54: 0 | K54: 0 | L54: 0 | M54: 0 | N54: 0 | O54: 0 | P54: 0 | Q54: 0 | R54: 0 | S54: =E54-G54 -> 0 | V54: =E54-I54 -> 0
C55: Maintenance Revenue | E55: 444588.33 | F55: 0.17781936 | G55: 419749.25 | H55: 0.18295406 | I55: 349540.26 | J55: 0.079921621 | K55: 146088.38 | L55: 0.12149016 | M55: 244855.55 | N55: 0.13081122 | O55: 88225 | P55: 0.13081122 | Q55: 52383 | R55: 0.13081122 | S55: =E55-G55 -> 24839.075 | T55: =S55/G55 -> 0.059175985 | V55: =E55-I55 -> 95048.065 | W55: =V55/I55 -> 0.27192308
C56: Income from Water | E56: 20708.217 | F56: 0.0082825433 | G56: 20043.44 | H56: 0.008866796 | I56: 16940.33 | J56: 0.0052050183 | K56: 9514.23 | L56: 0.0094514921 | M56: 19048.87 | N56: 0.0093021314 | O56: 15453 | P56: 0.0093021314 | Q56: 8643 | R56: 0.0093021314 | S56: =E56-G56 -> 664.7775 | T56: =S56/G56 -> 0.033166837 | V56: =E56-I56 -> 3767.8875 | W56: =V56/I56 -> 0.22242114
C57: Income from Power | E57: 119622.23 | F57: 0.047844595 | G57: 110091.46 | H57: 0.042630212 | I57: 81446.54 | J57: 0.025118065 | K57: 45913.2 | L57: 0.032308724 | M57: 65116.14 | N57: 0.033720226 | O57: 53091 | P57: 0.033720226 | Q57: 36079 | R57: 0.033720226 | S57: =E57-G57 -> 9530.768 | T57: =S57/G57 -> 0.086571365 | V57: =E57-I57 -> 38175.688 | W57: =V57/I57 -> 0.46872081
C58: Income from Cable | E58: 2448 | F58: 0.00097911208 | G58: 2448 | H58: 0.005584057 | I58: 10668.54 | J58: 0.013802205 | K58: 25228.99 | L58: 0.01516141 | M58: 30556.84 | N58: 0.0078486734 | O58: 17342 | P58: 0.0078486734 | Q58: 2962 | R58: 0.0078486734 | S58: =E58-G58 -> 0 | T58: =S58/G58 -> 0 | V58: =E58-I58 -> -8220.54 | W58: =V58/I58 -> -0.7705403
C59: Income from Pest Control | E59: 8897.13 | F59: 0.0035585325 | G59: 6046.92 | H59: 0.0015315077 | I59: 2926 | J59: 0.0017922249 | K59: 3276 | L59: 0.0044878644 | M59: 9045 | N59: 0.0035755068 | O59: 6160 | P59: 0.0035755068 | Q59: 11447 | R59: 0.0035755068 | S59: =E59-G59 -> 2850.21 | T59: =S59/G59 -> 0.47134905 | V59: =E59-I59 -> 5971.13 | W59: =V59/I59 -> 2.0407143
C60: Villa Contributions | E60: 104635.73 | F60: 0.041850534 | G60: 104635.73 | H60: 0.055639113 | I60: 106300.51 | J60: 0.031019452 | K60: 56700.32 | L60: 0.033317737 | M60: 67149.74 | N60: 0.049417573 | O60: 51037 | P60: 0.049417573 | Q60: 0 | R60: 0.049417573 | S60: =E60-G60 -> 0 | T60: =S60/G60 -> 0 | V60: =E60-I60 -> -1664.78 | W60: =V60/I60 -> -0.015661073
C61: Other Income | E61: 0 | F61: 0 | G61: 0.05 | H61: 0 | I61: 0 | J61: 0 | K61: 0 | L61: 0 | M61: 0 | N61: 0 | O61: 0 | P61: 0 | Q61: 0 | R61: 0 | S61: =E61-G61 -> -0.05 | T61: =S61/G61 -> -1 | V61: =E61-I61 -> 0
C62: Interest Income | E62: 0 | F62: 0 | G62: 0 | H62: 0 | I62: 0 | J62: 0 | K62: 0 | L62: 0 | M62: 0 | N62: 0 | O62: 0 | P62: 0 | Q62: 0 | R62: 0 | S62: =E62-G62 -> 0 | V62: =E62-I62 -> 0
C65: TOTAL REVENUES | E65: =SUM(E52:E64) -> 2500224.5 | F65: 1 | G65: =SUM(G52:G64) -> 2244677.9 | H65: 1 | I65: =SUM(I52:I64) -> 1910535.7 | J65: 1 | K65: =SUM(K52:K64) -> 1827895.6 | L65: 1 | M65: =SUM(M52:M64) -> 2015435.2 | N65: 1 | O65: =SUM(O52:O64) -> 1812971 | P65: 1 | Q65: =SUM(Q52:Q64) -> 1688848 | R65: 1 | S65: =E65-G65 -> 255546.56 | V65: =E65-I65 -> 589688.83
B69: ADMIN & GENERAL
E70: =E50 -> Budget 2023 | F70: % | G70: =G$11 -> Forecast 2022 | H70: =H$11 -> % | I70: =I11 -> Actual 2021 | J70: % | K70: =K50 -> Actual 2020 | L70: % | M70: =M50 -> Actual 2019 | N70: % | O70: =O50 -> Actual 2018 | P70: % | Q70: =Q50 -> Actual 2017 | R70: % | S70: =S11 -> 2023/2022 | V70: =V11 -> 2023/2021
C71: Security Payroll | E71: 122156.32 | F71: 0.048858139 | G71: 91777.95 | H71: 0.038979817 | I71: 74472.33 | J71: 0.033537003 | K71: 61302.14 | L71: 0.036420843 | M71: 73403.85 | N71: 0.046510657 | O71: 58699 | P71: 0.046510657 | Q71: 86385 | R71: 0.046510657 | S71: =E71-G71 -> 30378.365 | T71: =S71/G71 -> 0.33099852 | V71: =E71-I71 -> 47683.985 | W71: =V71/I71 -> 0.6402913
...

Sheet 2023 Strata #125 Budget Mthly
D1: 1
D4: Proprietors of Strata Plan #125 | T4: Proprietors of Strata Plan #125
D5: Reporting 2023- budget - monthly | T5: Reporting 2022- budget - year to date
B7: 1 | F7: 1 | G7: 1 | H7: 1 | I7: 1 | J7: 1 | K7: 1 | L7: 1 | M7: 1 | N7: 1 | O7: 1 | P7: 1 | Q7: 1 | S7: 1 | T7: 1 | U7: 1 | V7: 1 | W7: 1 | X7: 1 | Y7: 1 | Z7: 1 | AA7: 1 | AB7: 1 | AC7: 1 | AD7: 1 | AE7: 1 | AF7: 1
D11: SUMMARY STATEMENT
F12: 44927 | G12: 44958 | H12: 44986 | I12: 45017 | J12: 45047 | K12: 45078 | L12: 45108 | M12: 45139 | N12: 45170 | O12: 45200 | P12: 45231 | Q12: 45261 | T12: =F12 -> 44927 | U12: =G12 -> 44958 | V12: =H12 -> 44986 | W12: =I12 -> 45017 | X12: =J12 -> 45047 | Y12: =K12 -> 45078 | Z12: =L12 -> 45108 | AA12: =M12 -> 45139 | ... AE12: =Q12 -> 45261
B14: SUM100 | E14: Revenues | F14: 200340.01 | G14: 203735.46 | H14: 249934.43 | I14: 193738.4 | J14: 208413.72 | K14: 179450.25 | L14: 198602.8 | M14: 194698.94 | N14: 246214.18 | O14: 204131.88 | P14: 197458.99 | Q14: 223505.44 | S14: =B14 -> SUM100 | T14: =T65 -> 200340.01 | U14: =U65 -> 404075.47 | V14: =V65 -> 654009.89 | W14: =W65 -> 847748.29 | X14: =X65 -> 1056162 | Y14: =Y65 -> 1235612.3 | Z14: =Z65 -> 1434215.1 | AA14: =AA65 -> 1628914 | ... AE14: =AE65 -> 2500224.5
B15: 0 | S15: =B15 -> 0
B16: 0 | S16: =B16 -> 0
B17: SUM 400 | E17: TOTAL REVENUES | F17: =SUM(F14:F16) -> 200340.01 | G17: =SUM(G14:G16) -> 203735.46 | H17: =SUM(H14:H16) -> 249934.43 | I17: =SUM(I14:I16) -> 193738.4 | J17: =SUM(J14:J16) -> 208413.72 | K17: =SUM(K14:K16) -> 179450.25 | L17: =SUM(L14:L16) -> 198602.8 | M17: =SUM(M14:M16) -> 194698.94 | ... Q17: =SUM(Q14:Q16) -> 223505.44 | S17: =B17 -> SUM 400 | T17: =SUM(T14:T16) -> 200340.01 | U17: =SUM(U14:U16) -> 404075.47 | V17: =SUM(V14:V16) -> 654009.89 | W17: =SUM(W14:W16) -> 847748.29 | X17: =SUM(X14:X16) -> 1056162 | Y17: =SUM(Y14:Y16) -> 1235612.3 | Z17: =SUM(Z14:Z16) -> 1434215.1 | AA17: =SUM(AA14:AA16) -> 1628914 | ... AE17: =SUM(AE14:AE16) -> 2500224.5
B18: 0 | S18: =B18 -> 0
B19: 0 | S19: =B19 -> 0
B20: SUM500 | E20: Administration & General | F20: 63345.291 | G20: 65002.513 | H20: 65630.345 | I20: 71897.172 | J20: 73803.011 | K20: 72183.037 | L20: 70989.347 | M20: 70114.589 | N20: 71316.818 | O20: 69826.298 | P20: 71848.188 | Q20: 74847.627 | S20: =B20 -> SUM500 | T20: =T99 -> 63345.291 | U20: =U99 -> 128347.8 | V20: =V99 -> 193978.15 | W20: =W99 -> 265875.32 | X20: =X99 -> 339678.33 | Y20: =Y99 -> 411861.37 | Z20: =Z99 -> 482850.72 | AA20: =AA99 -> 552965.3 | ... AE20: =AE99 -> 840804.24
B21: SUM600 | E21: Maintenance | F21: 78694.71 | G21: 65514.966 | H21: 69854.105 | I21: 66180.335 | J21: 67471.185 | K21: 72675.371 | L21: 79101.669 | M21: 94023.112 | N21: 75195.829 | O21: 80755.049 | P21: 75784.232 | Q21: 79699.636 | S21: =B21 -> SUM600 | T21: =T146 -> 78694.71 | U21: =U146 -> 144209.68 | V21: =V146 -> 214063.78 | W21: =W146 -> 280244.12 | X21: =X146 -> 347715.3 | Y21: =Y146 -> 420390.67 | Z21: =Z146 -> 499492.34 | AA21: =AA146 -> 593515.45 | ... AE21: =AE146 -> 904950.2
B22: SUM700 | E22: Pool & Beach | F22: 29651.308 | G22: 28466.661 | H22: 29519.347 | I22: 32681.39 | J22: 32228.815 | K22: 34971.883 | L22: 40020.166 | M22: 32729.308 | N22: 36150.266 | O22: 35345.179 | P22: 30639.301 | Q22: 29806.968 | S22: =B22 -> SUM700 | T22: =T185 -> 29651.308 | U22: =U185 -> 58117.968 | V22: =V185 -> 87637.316 | W22: =W185 -> 120318.71 | X22: =X185 -> 152547.52 | Y22: =Y185 -> 187519.4 | Z22: =Z185 -> 227539.57 | AA22: =AA185 -> 260268.88 | ... AE22: =AE185 -> 392210.59
B23: SUM800 | E23: Common Areas | F23: 6564.8813 | G23: 5482.3536 | H23: 5801.4741 | I23: 6287.3526 | J23: 6029.6054 | K23: 6202.6711 | L23: 6069.1285 | M23: 6127.4145 | N23: 5695.1302 | O23: 5909.9511 | P23: 5859.6654 | Q23: 5911.9511 | S23: =B23 -> SUM800 | T23: =T209 -> 6564.8813 | U23: =U209 -> 12047.235 | V23: =V209 -> 17848.709 | W23: =W209 -> 24136.062 | X23: =X209 -> 30165.667 | Y23: =Y209 -> 36368.338 | Z23: =Z209 -> 42437.467 | AA23: =AA209 -> 48564.881 | ... AE23: =AE209 -> 71941.579
B24: SUM900 | E24: Utilities | F24: 21609.022 | G24: 19533.832 | H24: 18665.373 | I24: 21419.978 | J24: 21903.72 | K24: 27222.193 | L24: 29503.854 | M24: 25864.456 | N24: 24085.635 | O24: 21478.973 | P24: 23677.079 | Q24: 35348.491 | S24: =B24 -> SUM900 | T24: =T222 -> 21609.022 | U24: =U222 -> 41142.854 | V24: =V222 -> 59808.227 | W24: =W222 -> 81228.205 | X24: =X222 -> 103131.93 | Y24: =Y222 -> 130354.12 | Z24: =Z222 -> 159857.97 | AA24: =AA222 -> 185722.43 | ... AE24: =AE222 -> 290312.61
B25: 0 | S25: =B25 -> 0
B26: 0 | S26: =B26 -> 0
B27: SUM1000 | E27: TOTAL EXPENSES | F27: =SUM(F20:F26) -> 199865.21 | G27: =SUM(G20:G26) -> 184000.33 | H27: =SUM(H20:H26) -> 189470.64 | I27: =SUM(I20:I26) -> 198466.23 | J27: =SUM(J20:J26) -> 201436.34 | K27: =SUM(K20:K26) -> 213255.15 | L27: =SUM(L20:L26) -> 225684.16 | M27: =SUM(M20:M26) -> 228858.88 | ... Q27: =SUM(Q20:Q26) -> 225614.67 | S27: =B27 -> SUM1000 | T27: =SUM(T20:T26) -> 199865.21 | U27: =SUM(U20:U26) -> 383865.54 | V27: =SUM(V20:V26) -> 573336.18 | W27: =SUM(W20:W26) -> 771802.41 | X27: =SUM(X20:X26) -> 973238.75 | Y27: =SUM(Y20:Y26) -> 1186493.9 | Z27: =SUM(Z20:Z26) -> 1412178.1 | AA27: =SUM(AA20:AA26) -> 1641036.9 | ... AE27: =SUM(AE20:AE26) -> 2500219.2
B28: 0 | S28: =B28 -> 0
B29: 0 | S29: =B29 -> 0
B30: INS100 | E30: Insurance Assessment | F30: 0 | G30: -636081 | H30: 0 | I30: 0 | J30: 0 | K30: 0 | L30: 0 | M30: 0 | N30: 0 | O30: 0 | P30: 0 | Q30: 0 | S30: =B30 -> INS100 | T30: =F30 -> 0 | U30: =T30+G30 -> -636081 | V30: =U30+H30 -> -636081 | W30: =V30+I30 -> -636081 | X30: =W30+J30 -> -636081 | Y30: =X30+K30 -> -636081 | Z30: =Y30+L30 -> -636081 | AA30: =Z30+M30 -> -636081 | AB30: =AA30+N30 -> -636081 | ... AE30: =AD30+Q30 -> -636081
B31: INS200 | E31: Insurance Expenses | F31: 0 | G31: 636081 | H31: 0 | I31: 0 | J31: 0 | K31: 0 | L31: 0 | M31: 0 | N31: 0 | O31: 0 | P31: 0 | Q31: 0 | S31: =B31 -> INS200 | T31: =F31 -> 0 | U31: =T31+G31 -> 636081 | V31: =U31+H31 -> 636081 | W31: =V31+I31 -> 636081 | X31: =W31+J31 -> 636081 | Y31: =X31+K31 -> 636081 | Z31: =Y31+L31 -> 636081 | AA31: =Z31+M31 -> 636081 | AB31: =AA31+N31 -> 636081 | ... AE31: =AD31+Q31 -> 636081
B32: NS300 | E32: Management Fee | F32: 0 | S32: =B32 -> NS300 | T32: =F32 -> 0 | U32: =T32+G32 -> 0 | V32: =U32+H32 -> 0 | W32: =V32+I32 -> 0 | X32: =W32+J32 -> 0 | Y32: =X32+K32 -> 0 | Z32: =Y32+L32 -> 0 | AA32: =Z32+M32 -> 0 | AB32: =AA32+N32 -> 0 | ... AE32: =AD32+Q32 -> 0
B35: INS400 | E35: TOTAL INSURANCE | F35: =SUM(F30:F34) -> 0 | G35: =SUM(G30:G34) -> 0 | H35: =SUM(H30:H34) -> 0 | I35: =SUM(I30:I34) -> 0 | J35: =SUM(J30:J34) -> 0 | K35: =SUM(K30:K34) -> 0 | L35: =SUM(L30:L34) -> 0 | M35: =SUM(M30:M34) -> 0 | ... Q35: =SUM(Q30:Q34) -> 0 | S35: =B35 -> INS400 | T35: =SUM(T30:T34) -> 0 | U35: =SUM(U30:U34) -> 0 | V35: =SUM(V30:V34) -> 0 | W35: =SUM(W30:W34) -> 0 | X35: =SUM(X30:X34) -> 0 | Y35: =SUM(Y30:Y34) -> 0 | Z35: =SUM(Z30:Z34) -> 0 | AA35: =SUM(AA30:AA34) -> 0 | ... AE35: =SUM(AE30:AE34) -> 0
B38: RES200 | E38: Reserve Assessment | F38: -34559.15 | G38: -34559.15 | H38: -34559.15 | I38: -34559.15 | J38: -34559.15 | K38: -34559.15 | L38: -34559.15 | M38: -34559.15 | N38: -34559.15 | O38: -34559.15 | P38: -34559.15 | Q38: -34559.15 | S38: =B38 -> RES200 | T38: =F38 -> -34559.15 | U38: =T38+G38 -> -69118.3 | V38: =U38+H38 -> -103677.45 | W38: =V38+I38 -> -138236.6 | X38: =W38+J38 -> -172795.75 | Y38: =X38+K38 -> -207354.9 | Z38: =Y38+L38 -> -241914.05 | AA38: =Z38+M38 -> -276473.2 | AB38: =AA38+N38 -> -311032.35 | ... AE38: =AD38+Q38 -> -414709.8
B39: RES300 | E39: Reserve Fund | F39: 34559.15 | G39: 34559.15 | H39: 34559.15 | I39: 34559.15 | J39: 34559.15 | K39: 34559.15 | L39: 34559.15 | M39: 34559.15 | N39: 34559.15 | O39: 34559.15 | P39: 34559.15 | Q39: 34559.15 | S39: =B39 -> RES300 | T39: =F39 -> 34559.15 | U39: =T39+G39 -> 69118.3 | V39: =U39+H39 -> 103677.45 | W39: =V39+I39 -> 138236.6 | X39: =W39+J39 -> 172795.75 | Y39: =X39+K39 -> 207354.9 | Z39: =Y39+L39 -> 241914.05 | AA39: =Z39+M39 -> 276473.2 | AB39: =AA39+N39 -> 311032.35 | ... AE39: =AD39+Q39 -> 414709.8
B42: RES400 | E42: TOTAL RESERVE FUND | F42: 0 | G42: =SUM(G38:G39) -> 0 | H42: =SUM(H38:H39) -> 0 | I42: =SUM(I38:I39) -> 0 | J42: =SUM(J38:J39) -> 0 | K42: =SUM(K38:K39) -> 0 | L42: =SUM(L38:L39) -> 0 | M42: =SUM(M38:M39) -> 0 | N42: =SUM(N38:N39) -> 0 | ... Q42: =SUM(Q38:Q39) -> 0 | S42: =B42 -> RES400 | T42: =SUM(T38:T39) -> 0 | U42: =SUM(U38:U39) -> 0 | V42: =SUM(V38:V39) -> 0 | W42: =SUM(W38:W39) -> 0 | X42: =SUM(X38:X39) -> 0 | Y42: =SUM(Y38:Y39) -> 0 | Z42: =SUM(Z38:Z39) -> 0 | AA42: =SUM(AA38:AA39) -> 0 | ... AE42: =SUM(AE38:AE39) -> 0
B44: SUM1100 | E44: PROFIT / (LOSS) | F44: =F17-F27-F35-F42 -> 474.79491 | G44: =G17-G27-G35-G42 -> 19735.136 | H44: =H17-H27-H35-H42 -> 60463.782 | I44: =I17-I27-I35-I42 -> -4727.8324 | J44: =J17-J27-J35-J42 -> 6977.3842 | K44: =K17-K27-K35-K42 -> -33804.905 | L44: =L17-L27-L35-L42 -> -27081.364 | M44: =M17-M27-M35-M42 -> -34159.935 | ... Q44: =Q17-Q27-Q35-Q42 -> -2109.2364 | S44: =B44 -> SUM1100 | T44: =T17-T27-T35-T42 -> 474.79491 | U44: =U17-U27-U35-U42 -> 20209.931 | V44: =V17-V27-V35-V42 -> 80673.713 | W44: =W17-W27-W35-W42 -> 75945.88 | X44: =X17-X27-X35-X42 -> 82923.264 | Y44: =Y17-Y27-Y35-Y42 -> 49118.36 | Z44: =Z17-Z27-Z35-Z42 -> 22036.996 | AA44: =AA17-AA27-AA35-AA42 -> -12122.939 | ... AE44: =AE17-AE27-AE35-AE42 -> 5.2763787
B45: 0 | S45: =B45 -> 0
B46: 0 | S46: =B46 -> 0
B47: 0 | S47: =B47 -> 0
B48: 0 | S48: =B48 -> 0
B49: 0 | D49: =D11 -> SUMMARY STATEMENT | S49: =B49 -> 0
B50: 0 | F50: =F12 -> 44927 | G50: =G12 -> 44958 | H50: =H12 -> 44986 | I50: =I12 -> 45017 | J50: =J12 -> 45047 | K50: =K12 -> 45078 | L50: =L12 -> 45108 | M50: =M12 -> 45139 | ... Q50: =Q12 -> 45261 | S50: =B50 -> 0 | T50: =F50 -> 44927 | U50: =G50 -> 44958 | V50: =H50 -> 44986 | W50: =I50 -> 45017 | X50: =J50 -> 45047 | Y50: =K50 -> 45078 | Z50: =L50 -> 45108 | AA50: =M50 -> 45139 | ... AE50: =Q50 -> 45261
B51: 0 | S51: =B51 -> 0
B52: AG100 | E52: Strata Fees | F52: 149777.07 | G52: 149777.07 | H52: 149777.07 | I52: 149777.07 | J52: 149777.07 | K52: 149777.07 | L52: 149777.07 | M52: 149777.07 | N52: 149777.07 | O52: 149777.07 | P52: 149777.07 | Q52: 149777.07 | S52: =B52 -> AG100 | T52: =F52 -> 149777.07 | U52: =T52+G52 -> 299554.14 | V52: =U52+H52 -> 449331.21 | W52: =V52+I52 -> 599108.29 | X52: =W52+J52 -> 748885.36 | Y52: =X52+K52 -> 898662.43 | Z52: =Y52+L52 -> 1048439.5 | AA52: =Z52+M52 -> 1198216.6 | AB52: =AA52+N52 -> 1347993.6 | ... AE52: =AD52+Q52 -> 1797324.9
B53: AG200 | E53: Strata Storage Fees | F53: 0 | G53: 0 | H53: 0 | I53: 0 | J53: 0 | K53: 0 | L53: 0 | M53: 0 | N53: 0 | O53: 0 | P53: 0 | Q53: 2000 | S53: =B53 -> AG200 | T53: 0 | U53: =T53+G53 -> 0 | V53: =U53+H53 -> 0 | W53: =V53+I53 -> 0 | X53: =W53+J53 -> 0 | Y53: =X53+K53 -> 0 | Z53: =Y53+L53 -> 0 | AA53: =Z53+M53 -> 0 | AB53: =AA53+N53 -> 0 | ... AE53: =AD53+Q53 -> 2000
B54: AG300 | E54: Watersport Contribution | F54: 0 | G54: 0 | H54: 0 | I54: 0 | J54: 0 | K54: 0 | L54: 0 | M54: 0 | N54: 0 | O54: 0 | P54: 0 | Q54: 0 | S54: =B54 -> AG300 | T54: =F54 -> 0 | U54: =T54+G54 -> 0 | V54: =U54+H54 -> 0 | W54: =V54+I54 -> 0 | X54: =W54+J54 -> 0 | Y54: =X54+K54 -> 0 | Z54: =Y54+L54 -> 0 | AA54: =Z54+M54 -> 0 | AB54: =AA54+N54 -> 0 | ... AE54: =AD54+Q54 -> 0
...

Sheet MAJOR 2022
C2: PROPRIETORS STRATA PLAN # 125
C4: MAJOR EXPENDITURES - BUDGET 2022
E5: Budget | G5: Ytd Actual | I5: Forecast | K5: Forecast | M5: Variance
B6: PROJECT | C6: MAJOR RESERVE FUND | E6: 2022 | G6: 2022 | I6: Remainder | K6: Total year | M6: to Budget | P6: Comments
B7: 22M-001 | C7: Water Instrusions / Condensation Issues | E7: 25000 | G7: =1150.46+2340+21540+2411.42+2111.4 -> 29553.28 | K7: =G7+I7 -> 29553.28 | M7: =E7-K7 -> -4553.28
B8: 22M-002 | C8: Surge Protectors (all Panel boards)(sub Meter) | E8: 12000 | G8: =2134+2134+7947 -> 12215 | K8: =G8+I8 -> 12215 | M8: =E8-K8 -> -215
B9: 22M-003 | C9: Sun Tough/ Trellis | E9: 25000 | G9: =5000+3037.5+487.5+666.27+228.29+3800+139.28+1095+3200+4800+600+2500+2500+1500+1500+8345 -> 39398.84 | K9: =G9+I9 -> 39398.84 | M9: =E9-K9 -> -14398.84
E10: 0 | K10: =G10+I10 -> 0 | M10: =E10-K10 -> 0
C12: TOTAL MAJOR RESERVE FUND | E12: =SUM(E7:E10) -> 62000 | G12: =SUM(G7:G10) -> 81167.12 | I12: =SUM(I7:I11) -> 0 | K12: =SUM(K7:K11) -> 81167.12 | M12: =SUM(M7:M10) -> -19167.12
G14: 81167.12
G25: =G12-G14 -> 0
P28: 2022 Reserves Page 2 of 3
G30: 0

Sheet CAPITAL 2022
B1: THE SHORE CLUB
B2: PROPRIETORS STRATA PLAN # 125
B4: CAPITAL EXPENDITURES - 2022
B6: PROJECT # | C6: CAPITAL RESERVE FUND | E6: Budget | G6: YTD Actual | I6: Forecast | K6: Forecast | M6: Variance
E7: 2022 | G7: 2022 | I7: remainder | K7: Total year | M7: to Budget | O7: Comments
B8: 22C-001 | C8: Landscaping (Quiet Use Battery Equipment, Plants, Mulch) | E8: 15000 | G8: =4273.97+4273.97+1401+1210+1160+1638+1360 -> 15316.94 | K8: =G8+I8 -> 15316.94 | M8: =E8-K8 -> -316.94
B9: 22C-002 | C9: Landscaping and Pathway Lighting | E9: 3000 | G9: 7136.26 | K9: =G9+I9 -> 7136.26 | M9: =E9-K9 -> -4136.26
B10: 22C-003 | C10: TP / Irrigation / Filtration Pumps | E10: 3000 | K10: =G10+I10 -> 0 | M10: =E10-K10 -> 3000 | O10: moved to 2023
B11: 22C-004 | C11: Pool & Beach Furniture (includes umbrellas) | E11: 40000 | G11: =1080+660+7358.16+1350+9062.67+2354.45+2470+2100+980+7248.6 -> 34663.88 | I11: =E11-G11 -> 5336.12 | K11: =G11+I11 -> 40000 | M11: =E11-K11 -> 0
B12: 22C-005 | C12: Pool Filters & Silica Sand | E12: 8600 | G12: =11660 -> 11660 | I12: =5946-3060 -> 2886 | K12: =G12+I12 -> 14546 | M12: =E12-K12 -> -5946 | O12: Adult, Lap, Sea Grapes & Colonnade Pools works w/ AIB
B13: 22C-006 | C13: Pool Lights (includes jacuzzi) | E13: 5000 | G13: =4049.4-4049.4 -> 0 | K13: =G13+I13 -> 0 | M13: =E13-K13 -> 5000
B14: 22C-007 | C14: Pool Pumps (includes jacuzzi) | E14: 10000 | G14: =2800+505+1498+669.45+2000+980.81+1800+1800 -> 12053.26 | K14: =G14+I14 -> 12053.26 | M14: =E14-K14 -> -2053.26
B15: 22C-008 | C15: Pool Chlorinator Salt Cells (Common Pool) | E15: 4000 | G15: 0 | K15: =G15+I15 -> 0 | M15: =E15-K15 -> 4000 | O15: moved to 2023
B16: 22C-009 | C16: Pool Heaters | E16: 8000 | G16: =24584.26-1362.94-3786.7-4495 -> 14939.62 | K16: =G16+I16 -> 14939.62 | M16: =E16-K16 -> -6939.62
B17: 22C-010 | C17: Watersports Equipment - 4 paddle boards / 2 sails | E17: 7000 | G17: =4399.91+3104.5+2645.99 -> 10150.4 | I17: 2800 | K17: =G17+I17 -> 12950.4 | M17: =E17-K17 -> -5950.4
B18: 22C-011 | C18: Tractor (Tires - Full Set) & Rake Repairs | E18: 8000 | G18: =2355+1462.95 -> 3817.95 | I18: =5600-3818 -> 1782 | K18: =G18+I18 -> 5599.95 | M18: =E18-K18 -> 2400.05
B19: 22C-012 | C19: Gym Equipment | E19: 5000 | G19: =665+3617.38 -> 4282.38 | I19: =6000-4282 -> 1718 | K19: =G19+I19 -> 6000.38 | M19: =E19-K19 -> -1000.38
B20: 22C-013 | C20: WWTP Pumps / Blowers | E20: 15000 | G20: =2150.39+2530+6770 -> 11450.39 | K20: =G20+I20 -> 11450.39 | M20: =E20-K20 -> 3549.61
B21: 22C-014 | C21: Lift Station Pumps / Controls / Sewage (submersable pumps) | E21: 5000 | G21: =5036.13+10160 -> 15196.13 | K21: =G21+I21 -> 15196.13 | M21: =E21-K21 -> -10196.13
B22: 22C-015 | C22: Tools and Equipment (MT department) | E22: 2500 | G22: =1837.89+167.27+1304+612 -> 3921.16 | K22: =G22+I22 -> 3921.16 | M22: =E22-K22 -> -1421.16
B23: 22C-016 | C23: Security Entry at Guest parking (50% cost share with Mgt Co) | E23: 10000 | G23: =((2694.75+335.2+375+14393.45)/2)+1850+608.5+3140.02+35.18+250 -> 14782.9 | K23: =G23+I23 -> 14782.9 | M23: =E23-K23 -> -4782.9
B24: 22C-017 | C24: Trike - 3 | E24: 3500 | G24: =842.94+2435.88 -> 3278.82 | I24: =E24-G24 -> 221.18 | K24: =G24+I24 -> 3500 | M24: =E24-K24 -> 0
B25: 22C-018 | C25: MISC | E25: 10000 | G25: =1846.24+865.94+866.7+159.65+2500+3514+1071.02 -> 10823.55 | K25: =G25+I25 -> 10823.55 | M25: =E25-K25 -> -823.55
I26: =E26-G26 -> 0 | K26: =G26+I26 -> 0 | M26: =E26-K26 -> 0
E27: 0 | I27: =E27-G27 -> 0 | K27: =G27+I27 -> 0 | M27: =E27-K27 -> 0
C28: TOTAL BUDGET 2022 CAPITAL RESERVE FUND | E28: =SUM(E8:E27) -> 162600 | G28: =SUM(G8:G27) -> 173473.64 | I28: =SUM(I8:I27) -> 14743.3 | K28: =SUM(K8:K27) -> 188216.94 | M28: =SUM(M8:M27) -> -25616.94
O32: 2022 Reserves Page 1 of 3
G34: 173473.59
G35: =G28-G34 -> 0.05

Sheet Payroll 2023
C1: Strata #125 Payroll
H2: January | I2: February | J2: March | K2: April | L2: May | M2: June | N2: July | O2: August | P2: September | Q2: October | R2: November | S2: December
H3: 31 | I3: 28 | J3: 31 | K3: 30 | L3: 31 | M3: 30 | N3: 31 | O3: 31 | P3: 30 | Q3: 31 | R3: 30 | S3: 31
D4: Manning | G4: April 1st | H4: =44/7 -> 6.2857143 | I4: =H4 -> 6.2857143 | J4: =I4 -> 6.2857143 | K4: =J4 -> 6.2857143 | L4: =K4 -> 6.2857143 | M4: =L4 -> 6.2857143 | N4: =M4 -> 6.2857143 | O4: =N4 -> 6.2857143 | P4: =O4 -> 6.2857143 | ... S4: =R4 -> 6.2857143
A5: Rate | B5: April 1st | C5: Landscaping | D5: =COUNT(H6:H22) -> 17 | E5: Strata Alloc % | F5: Strata Alloc. Rate | G5: Strata Alloc. Rate
A6: 7.35 | B6: 7.75 | C6: Agelus, Fredlin | E6: 0.3583 | F6: =A6*E6 -> 2.633505 | G6: =E6*B6 -> 2.776825 | H6: =F6*$H$4*$H$3 -> 513.15726 | I6: =F6*$I$4*$I$3 -> 463.49688 | J6: =F6*$J$4*$J$3 -> 513.15726 | K6: =G6*$K$4*$K$3 -> 523.62986 | L6: =G6*$L$4*$L$3 -> 541.08419 | M6: =G6*$M$4*$M$3 -> 523.62986 | N6: =G6*$N$4*$N$3 -> 541.08419 | O6: =G6*$O$4*$O$3 -> 541.08419 | P6: =G6*$P$4*$P$3 -> 523.62986 | Q6: =G6*$Q$4*$Q$3 -> 541.08419 | R6: =G6*$R$4*$R$3 -> 523.62986 | S6: =G6*$S$4*$S$3 -> 541.08419
A7: 7.35 | B7: 7.75 | C7: Castely, Aristile | E7: 0.3583 | F7: =A7*E7 -> 2.633505 | G7: =E7*B7 -> 2.776825 | H7: =F7*$H$4*$H$3 -> 513.15726 | I7: =F7*$I$4*$I$3 -> 463.49688 | J7: =F7*$J$4*$J$3 -> 513.15726 | K7: =G7*$K$4*$K$3 -> 523.62986 | L7: =G7*$L$4*$L$3 -> 541.08419 | M7: =G7*$M$4*$M$3 -> 523.62986 | N7: =G7*$N$4*$N$3 -> 541.08419 | O7: =G7*$O$4*$O$3 -> 541.08419 | P7: =G7*$P$4*$P$3 -> 523.62986 | Q7: =G7*$Q$4*$Q$3 -> 541.08419 | R7: =G7*$R$4*$R$3 -> 523.62986 | S7: =G7*$S$4*$S$3 -> 541.08419
A8: 7 | B8: 7.35 | C8: Deus, Jacquelin | E8: 0.3583 | F8: =A8*E8 -> 2.5081 | G8: =E8*B8 -> 2.633505 | H8: =F8*$H$4*$H$3 -> 488.7212 | I8: =F8*$I$4*$I$3 -> 441.4256 | J8: =F8*$J$4*$J$3 -> 488.7212 | K8: =G8*$K$4*$K$3 -> 496.6038 | L8: =G8*$L$4*$L$3 -> 513.15726 | M8: =G8*$M$4*$M$3 -> 496.6038 | N8: =G8*$N$4*$N$3 -> 513.15726 | O8: =G8*$O$4*$O$3 -> 513.15726 | P8: =G8*$P$4*$P$3 -> 496.6038 | Q8: =G8*$Q$4*$Q$3 -> 513.15726 | R8: =G8*$R$4*$R$3 -> 496.6038 | S8: =G8*$S$4*$S$3 -> 513.15726 | T8: =(7.25-7)/7 -> 0.035714286
A9: 7.65 | B9: 7.75 | C9: Elliott, Vibert | E9: 0.3583 | F9: =A9*E9 -> 2.740995 | G9: =E9*B9 -> 2.776825 | H9: =F9*$H$4*$H$3 -> 534.10245 | I9: =F9*$I$4*$I$3 -> 482.41512 | J9: =F9*$J$4*$J$3 -> 534.10245 | K9: =G9*$K$4*$K$3 -> 523.62986 | L9: =G9*$L$4*$L$3 -> 541.08419 | M9: =G9*$M$4*$M$3 -> 523.62986 | N9: =G9*$N$4*$N$3 -> 541.08419 | O9: =G9*$O$4*$O$3 -> 541.08419 | P9: =G9*$P$4*$P$3 -> 523.62986 | Q9: =G9*$Q$4*$Q$3 -> 541.08419 | R9: =G9*$R$4*$R$3 -> 523.62986 | S9: =G9*$S$4*$S$3 -> 541.08419
A10: 7.35 | B10: 7.75 | C10: Fontaine, Joseph | E10: 0.3583 | F10: =A10*E10 -> 2.633505 | G10: =E10*B10 -> 2.776825 | H10: =F10*$H$4*$H$3 -> 513.15726 | I10: =F10*$I$4*$I$3 -> 463.49688 | J10: =F10*$J$4*$J$3 -> 513.15726 | K10: =G10*$K$4*$K$3 -> 523.62986 | L10: =G10*$L$4*$L$3 -> 541.08419 | M10: =G10*$M$4*$M$3 -> 523.62986 | N10: =G10*$N$4*$N$3 -> 541.08419 | O10: =G10*$O$4*$O$3 -> 541.08419 | P10: =G10*$P$4*$P$3 -> 523.62986 | Q10: =G10*$Q$4*$Q$3 -> 541.08419 | R10: =G10*$R$4*$R$3 -> 523.62986 | S10: =G10*$S$4*$S$3 -> 541.08419
A11: 7.35 | B11: 7.75 | C11: Gelin, Renot | E11: 0.3583 | F11: =A11*E11 -> 2.633505 | G11: =E11*B11 -> 2.776825 | H11: =F11*$H$4*$H$3 -> 513.15726 | I11: =F11*$I$4*$I$3 -> 463.49688 | J11: =F11*$J$4*$J$3 -> 513.15726 | K11: =G11*$K$4*$K$3 -> 523.62986 | L11: =G11*$L$4*$L$3 -> 541.08419 | M11: =G11*$M$4*$M$3 -> 523.62986 | N11: =G11*$N$4*$N$3 -> 541.08419 | O11: =G11*$O$4*$O$3 -> 541.08419 | P11: =G11*$P$4*$P$3 -> 523.62986 | Q11: =G11*$Q$4*$Q$3 -> 541.08419 | R11: =G11*$R$4*$R$3 -> 523.62986 | S11: =G11*$S$4*$S$3 -> 541.08419
A12: 7 | B12: 7.5 | C12: Israel, Berice | E12: 0.3583 | F12: =A12*E12 -> 2.5081 | G12: =E12*B12 -> 2.68725 | H12: =F12*$H$4*$H$3 -> 488.7212 | I12: =F12*$I$4*$I$3 -> 441.4256 | J12: =F12*$J$4*$J$3 -> 488.7212 | K12: =G12*$K$4*$K$3 -> 506.73857 | L12: =G12*$L$4*$L$3 -> 523.62986 | M12: =G12*$M$4*$M$3 -> 506.73857 | N12: =G12*$N$4*$N$3 -> 523.62986 | O12: =G12*$O$4*$O$3 -> 523.62986 | P12: =G12*$P$4*$P$3 -> 506.73857 | Q12: =G12*$Q$4*$Q$3 -> 523.62986 | R12: =G12*$R$4*$R$3 -> 506.73857 | S12: =G12*$S$4*$S$3 -> 523.62986
A13: 8.75 | B13: 9.15 | C13: Jean Elveus, Robert | E13: 0.3583 | F13: =A13*E13 -> 3.135125 | G13: =E13*B13 -> 3.278445 | H13: =F13*$H$4*$H$3 -> 610.9015 | I13: =F13*$I$4*$I$3 -> 551.782 | J13: =F13*$J$4*$J$3 -> 610.9015 | K13: =G13*$K$4*$K$3 -> 618.22106 | L13: =G13*$L$4*$L$3 -> 638.82843 | M13: =G13*$M$4*$M$3 -> 618.22106 | N13: =G13*$N$4*$N$3 -> 638.82843 | O13: =G13*$O$4*$O$3 -> 638.82843 | P13: =G13*$P$4*$P$3 -> 618.22106 | Q13: =G13*$Q$4*$Q$3 -> 638.82843 | R13: =G13*$R$4*$R$3 -> 618.22106 | S13: =G13*$S$4*$S$3 -> 638.82843
A14: 7 | B14: 7.35 | C14: Joseph, Alex | E14: 0.3583 | F14: =A14*E14 -> 2.5081 | G14: =E14*B14 -> 2.633505 | H14: =F14*$H$4*$H$3 -> 488.7212 | I14: =F14*$I$4*$I$3 -> 441.4256 | J14: =F14*$J$4*$J$3 -> 488.7212 | K14: =G14*$K$4*$K$3 -> 496.6038 | L14: =G14*$L$4*$L$3 -> 513.15726 | M14: =G14*$M$4*$M$3 -> 496.6038 | N14: =G14*$N$4*$N$3 -> 513.15726 | O14: =G14*$O$4*$O$3 -> 513.15726 | P14: =G14*$P$4*$P$3 -> 496.6038 | Q14: =G14*$Q$4*$Q$3 -> 513.15726 | R14: =G14*$R$4*$R$3 -> 496.6038 | S14: =G14*$S$4*$S$3 -> 513.15726
A15: 7.65 | B15: 7.75 | C15: Merdelus, Francky | E15: 0.3583 | F15: =A15*E15 -> 2.740995 | G15: =E15*B15 -> 2.776825 | H15: =F15*$H$4*$H$3 -> 534.10245 | I15: =F15*$I$4*$I$3 -> 482.41512 | J15: =F15*$J$4*$J$3 -> 534.10245 | K15: =G15*$K$4*$K$3 -> 523.62986 | L15: =G15*$L$4*$L$3 -> 541.08419 | M15: =G15*$M$4*$M$3 -> 523.62986 | N15: =G15*$N$4*$N$3 -> 541.08419 | O15: =G15*$O$4*$O$3 -> 541.08419 | P15: =G15*$P$4*$P$3 -> 523.62986 | Q15: =G15*$Q$4*$Q$3 -> 541.08419 | R15: =G15*$R$4*$R$3 -> 523.62986 | S15: =G15*$S$4*$S$3 -> 541.08419
A16: =1539.12/88 -> 17.49 | B16: 18.19 | C16: Morton, Naris | E16: 0.3583 | F16: =A16*E16 -> 6.266667 | G16: =E16*B16 -> 6.517477 | H16: =F16*$H$4*$H$3 -> 1221.1048 | I16: =F16*$I$4*$I$3 -> 1102.9334 | J16: =F16*$J$4*$J$3 -> 1221.1048 | K16: =F16*$K$4*$K$3 -> 1181.7143 | L16: =G16*$L$4*$L$3 -> 1269.9769 | M16: =G16*$M$4*$M$3 -> 1229.0099 | N16: =G16*$N$4*$N$3 -> 1269.9769 | O16: =G16*$O$4*$O$3 -> 1269.9769 | P16: =G16*$P$4*$P$3 -> 1229.0099 | Q16: =G16*$Q$4*$Q$3 -> 1269.9769 | R16: =G16*$R$4*$R$3 -> 1229.0099 | S16: =G16*$S$4*$S$3 -> 1269.9769
A17: 7 | B17: 7.35 | C17: Vacant | E17: 0.3583 | F17: =A17*E17 -> 2.5081 | G17: =E17*B17 -> 2.633505 | H17: =F17*$H$4*$H$3 -> 488.7212 | I17: =F17*$I$4*$I$3 -> 441.4256 | J17: =F17*$J$4*$J$3 -> 488.7212 | K17: =G17*$K$4*$K$3 -> 496.6038 | L17: =G17*$L$4*$L$3 -> 513.15726 | M17: =G17*$M$4*$M$3 -> 496.6038 | N17: =G17*$N$4*$N$3 -> 513.15726 | O17: =G17*$O$4*$O$3 -> 513.15726 | P17: =G17*$P$4*$P$3 -> 496.6038 | Q17: =G17*$Q$4*$Q$3 -> 513.15726 | R17: =G17*$R$4*$R$3 -> 496.6038 | S17: =G17*$S$4*$S$3 -> 513.15726
A18: 8.75 | B18: 9.15 | C18: Noel, Hillaireson | E18: 0.3583 | F18: =A18*E18 -> 3.135125 | G18: =E18*B18 -> 3.278445 | H18: =F18*$H$4*$H$3 -> 610.9015 | I18: =F18*$I$4*$I$3 -> 551.782 | J18: =F18*$J$4*$J$3 -> 610.9015 | K18: =G18*$K$4*$K$3 -> 618.22106 | L18: =G18*$L$4*$L$3 -> 638.82843 | M18: =G18*$M$4*$M$3 -> 618.22106 | N18: =G18*$N$4*$N$3 -> 638.82843 | O18: =G18*$O$4*$O$3 -> 638.82843 | P18: =G18*$P$4*$P$3 -> 618.22106 | Q18: =G18*$Q$4*$Q$3 -> 638.82843 | R18: =G18*$R$4*$R$3 -> 618.22106 | S18: =G18*$S$4*$S$3 -> 638.82843
A19: 7.35 | B19: 7.75 | C19: Ulysse, Jean Marie | E19: 0.3583 | F19: =A19*E19 -> 2.633505 | G19: =E19*B19 -> 2.776825 | H19: =F19*$H$4*$H$3 -> 513.15726 | I19: =F19*$I$4*$I$3 -> 463.49688 | J19: =F19*$J$4*$J$3 -> 513.15726 | K19: =G19*$K$4*$K$3 -> 523.62986 | L19: =G19*$L$4*$L$3 -> 541.08419 | M19: =G19*$M$4*$M$3 -> 523.62986 | N19: =G19*$N$4*$N$3 -> 541.08419 | O19: =G19*$O$4*$O$3 -> 541.08419 | P19: =G19*$P$4*$P$3 -> 523.62986 | Q19: =G19*$Q$4*$Q$3 -> 541.08419 | R19: =G19*$R$4*$R$3 -> 523.62986 | S19: =G19*$S$4*$S$3 -> 541.08419
A20: 500 | C20: Nursery -ALSADE JEAN BAPTISE | E20: 0.3583 | F20: =A20*E20 -> 179.15 | H20: =F20 -> 179.15 | I20: =H20 -> 179.15 | J20: =I20 -> 179.15 | K20: =J20 -> 179.15 | L20: =K20 -> 179.15 | M20: =L20 -> 179.15 | N20: =M20 -> 179.15 | O20: =N20 -> 179.15 | P20: =O20 -> 179.15 | ... S20: =R20 -> 179.15
A21: 100 | C21: Nursery- ELMOUR FRANDY | E21: 0.3583 | F21: =A21*E21 -> 35.83 | H21: =F21 -> 35.83 | I21: =H21 -> 35.83 | J21: =I21 -> 35.83 | K21: =J21 -> 35.83 | L21: =K21 -> 35.83 | M21: =L21 -> 35.83 | N21: =M21 -> 35.83 | O21: =N21 -> 35.83 | P21: =O21 -> 35.83 | ... S21: =R21 -> 35.83
A22: 200 | C22: Casual- Anefer Garcia | E22: 0.3583 | F22: =A22*E22 -> 71.66 | H22: =F22 -> 71.66 | I22: =H22 -> 71.66 | J22: =I22 -> 71.66 | K22: =J22 -> 71.66 | L22: =K22 -> 71.66 | M22: =L22 -> 71.66 | N22: =M22 -> 71.66 | O22: =N22 -> 71.66 | P22: =O22 -> 71.66 | ... S22: =R22 -> 71.66
C23: Total | D23: =SUM(H23:S23) -> 101211.73 | H23: =SUM(H6:H22) -> 8318.4238 | I23: =SUM(I6:I22) -> 7541.1544 | J23: =SUM(J6:J22) -> 8318.4238 | K23: =SUM(K6:K22) -> 8366.7554 | L23: =SUM(L6:L22) -> 8684.9647 | M23: =SUM(M6:M22) -> 8414.051 | N23: =SUM(N6:N22) -> 8684.9647 | O23: =SUM(O6:O22) -> 8684.9647 | ... S23: =SUM(S6:S22) -> 8684.9647
C25: Pool & Beach | D25: =COUNT(H26:H43) -> 16 | O25: 0.75 | P25: 0.5 | Q25: 0.75 | R25: 0.8
A26: 19.67 | B26: 21 | C26: Manager | E26: 1 | F26: =A26*E26 -> 19.67 | G26: =E26*B26 -> 21 | H26: =F26*$H$4*$H$3 -> 3832.84 | I26: =F26*$I$4*$I$3 -> 3461.92 | J26: =F26*$J$4*$J$3 -> 3832.84 | K26: =G26*$K$4*$K$3 -> 3960 | L26: =G26*$L$4*$L$3 -> 4092 | M26: =G26*$M$4*$M$3 -> 3960 | N26: =G26*$N$4*$N$3 -> 4092 | O26: =G26*$O$4*$O$3 -> 4092 | P26: =G26*$P$4*$P$3 -> 3960 | Q26: =G26*$Q$4*$Q$3 -> 4092 | R26: =G26*$R$4*$R$3 -> 3960 | S26: =G26*$S$4*$S$3 -> 4092
A27: 7.5 | B27: 8 | C27: Celan, Wentz | E27: 1 | F27: =A27*E27 -> 7.5 | G27: =E27*B27 -> 8 | H27: =F27*$H$4*$H$3 -> 1461.4286 | I27: =F27*$I$4*$I$3 -> 1320 | J27: =F27*$J$4*$J$3 -> 1461.4286 | K27: =G27*$K$4*$K$3 -> 1508.5714 | L27: =G27*$L$4*$L$3 -> 1558.8571 | M27: =G27*$M$4*$M$3 -> 1508.5714 | N27: =G27*$N$4*$N$3 -> 1558.8571 | O27: =G27*$O$4*$O$3*$O$25 -> 1169.1429 | P27: =G27*$P$4*$P$3*$P$25 -> 754.28571 | Q27: =G27*$Q$4*$Q$3*$Q$25 -> 1169.1429 | R27: =G27*$R$4*$R$3*$R$25 -> 1206.8571 | S27: =G27*$S$4*$S$3 -> 1558.8571
A28: 9 | B28: 9.5 | C28: Charles, Sanel | E28: 1 | F28: =A28*E28 -> 9 | G28: =E28*B28 -> 9.5 | H28: =F28*$H$4*$H$3 -> 1753.7143 | I28: =F28*$I$4*$I$3 -> 1584 | J28: =F28*$J$4*$J$3 -> 1753.7143 | K28: =G28*$K$4*$K$3 -> 1791.4286 | L28: =G28*$L$4*$L$3 -> 1851.1429 | M28: =G28*$M$4*$M$3 -> 1791.4286 | N28: =G28*$N$4*$N$3 -> 1851.1429 | O28: =G28*$O$4*$O$3*$O$25 -> 1388.3571 | P28: =G28*$P$4*$P$3*$P$25 -> 895.71429 | Q28: =G28*$Q$4*$Q$3*$Q$25 -> 1388.3571 | R28: =G28*$R$4*$R$3*$R$25 -> 1433.1429 | S28: =G28*$S$4*$S$3 -> 1851.1429
A29: 7.65 | B29: 8 | C29: Dominique, Ronel | E29: 1 | F29: =A29*E29 -> 7.65 | G29: =E29*B29 -> 8 | H29: =F29*$H$4*$H$3 -> 1490.6571 | I29: =F29*$I$4*$I$3 -> 1346.4 | J29: =F29*$J$4*$J$3 -> 1490.6571 | K29: =G29*$K$4*$K$3 -> 1508.5714 | L29: =G29*$L$4*$L$3 -> 1558.8571 | M29: =G29*$M$4*$M$3 -> 1508.5714 | N29: =G29*$N$4*$N$3 -> 1558.8571 | O29: =G29*$O$4*$O$3*$O$25 -> 1169.1429 | P29: =G29*$P$4*$P$3*$P$25 -> 754.28571 | Q29: =G29*$Q$4*$Q$3*$Q$25 -> 1169.1429 | R29: =G29*$R$4*$R$3*$R$25 -> 1206.8571 | S29: =G29*$S$4*$S$3 -> 1558.8571
A30: 7 | B30: 7.5 | C30: Ducatel, Nodelin | E30: 1 | F30: =A30*E30 -> 7 | G30: =E30*B30 -> 7.5 | H30: =F30*$H$4*$H$3 -> 1364 | I30: =F30*$I$4*$I$3 -> 1232 | J30: =F30*$J$4*$J$3 -> 1364 | K30: =G30*$K$4*$K$3 -> 1414.2857 | L30: =G30*$L$4*$L$3 -> 1461.4286 | M30: =G30*$M$4*$M$3 -> 1414.2857 | N30: =G30*$N$4*$N$3 -> 1461.4286 | O30: =G30*$O$4*$O$3*$O$25 -> 1096.0714 | P30: =G30*$P$4*$P$3*$P$25 -> 707.14286 | Q30: =G30*$Q$4*$Q$3*$Q$25 -> 1096.0714 | R30: =G30*$R$4*$R$3*$R$25 -> 1131.4286 | S30: =G30*$S$4*$S$3 -> 1461.4286
A31: 7.5 | B31: 8 | C31: Higgs, Stephania | E31: 1 | F31: =A31*E31 -> 7.5 | G31: =E31*B31 -> 8 | H31: =F31*$H$4*$H$3 -> 1461.4286 | I31: =F31*$I$4*$I$3 -> 1320 | J31: =F31*$J$4*$J$3 -> 1461.4286 | K31: =G31*$K$4*$K$3 -> 1508.5714 | L31: =G31*$L$4*$L$3 -> 1558.8571 | M31: =G31*$M$4*$M$3 -> 1508.5714 | N31: =G31*$N$4*$N$3 -> 1558.8571 | O31: =G31*$O$4*$O$3*$O$25 -> 1169.1429 | P31: =G31*$P$4*$P$3*$P$25 -> 754.28571 | Q31: =G31*$Q$4*$Q$3*$Q$25 -> 1169.1429 | R31: =G31*$R$4*$R$3*$R$25 -> 1206.8571 | S31: =G31*$S$4*$S$3 -> 1558.8571
A32: 7 | B32: 7.5 | C32: Jean, Mckarsen | E32: 1 | F32: =A32*E32 -> 7 | G32: =E32*B32 -> 7.5 | H32: =F32*$H$4*$H$3 -> 1364 | I32: =F32*$I$4*$I$3 -> 1232 | J32: =F32*$J$4*$J$3 -> 1364 | K32: =G32*$K$4*$K$3 -> 1414.2857 | L32: =G32*$L$4*$L$3 -> 1461.4286 | M32: =G32*$M$4*$M$3 -> 1414.2857 | N32: =G32*$N$4*$N$3 -> 1461.4286 | O32: =G32*$O$4*$O$3*$O$25 -> 1096.0714 | P32: =G32*$P$4*$P$3*$P$25 -> 707.14286 | Q32: =G32*$Q$4*$Q$3*$Q$25 -> 1096.0714 | R32: =G32*$R$4*$R$3*$R$25 -> 1131.4286 | S32: =G32*$S$4*$S$3 -> 1461.4286
A33: 8 | B33: 8.4 | C33: Louis, Clervil | E33: 1 | F33: =A33*E33 -> 8 | G33: =E33*B33 -> 8.4 | H33: =F33*$H$4*$H$3 -> 1558.8571 | I33: =F33*$I$4*$I$3 -> 1408 | J33: =F33*$J$4*$J$3 -> 1558.8571 | K33: =G33*$K$4*$K$3 -> 1584 | L33: =G33*$L$4*$L$3 -> 1636.8 | M33: =G33*$M$4*$M$3 -> 1584 | N33: =G33*$N$4*$N$3 -> 1636.8 | O33: =G33*$O$4*$O$3*$O$25 -> 1227.6 | P33: =G33*$P$4*$P$3*$P$25 -> 792 | Q33: =G33*$Q$4*$Q$3*$Q$25 -> 1227.6 | R33: =G33*$R$4*$R$3*$R$25 -> 1267.2 | S33: =G33*$S$4*$S$3 -> 1636.8
A34: 7.5 | B34: 8 | C34: Parker, Travez | E34: 1 | F34: =A34*E34 -> 7.5 | G34: =E34*B34 -> 8 | H34: =F34*$H$4*$H$3 -> 1461.4286 | I34: =F34*$I$4*$I$3 -> 1320 | J34: =F34*$J$4*$J$3 -> 1461.4286 | K34: =G34*$K$4*$K$3 -> 1508.5714 | L34: =G34*$L$4*$L$3 -> 1558.8571 | M34: =G34*$M$4*$M$3 -> 1508.5714 | N34: =G34*$N$4*$N$3 -> 1558.8571 | O34: =G34*$O$4*$O$3*$O$25 -> 1169.1429 | P34: =G34*$P$4*$P$3*$P$25 -> 754.28571 | Q34: =G34*$Q$4*$Q$3*$Q$25 -> 1169.1429 | R34: =G34*$R$4*$R$3*$R$25 -> 1206.8571 | S34: =G34*$S$4*$S$3 -> 1558.8571
A35: 7.5 | B35: 8 | C35: Peterly, Brutus | E35: 1 | F35: =A35*E35 -> 7.5 | G35: =E35*B35 -> 8 | H35: =F35*$H$4*$H$3 -> 1461.4286 | I35: =F35*$I$4*$I$3 -> 1320 | J35: =F35*$J$4*$J$3 -> 1461.4286 | K35: =G35*$K$4*$K$3 -> 1508.5714 | L35: =G35*$L$4*$L$3 -> 1558.8571 | M35: =G35*$M$4*$M$3 -> 1508.5714 | N35: =G35*$N$4*$N$3 -> 1558.8571 | O35: =G35*$O$4*$O$3*$O$25 -> 1169.1429 | P35: =G35*$P$4*$P$3*$P$25 -> 754.28571 | Q35: =G35*$Q$4*$Q$3*$Q$25 -> 1169.1429 | R35: =G35*$R$4*$R$3*$R$25 -> 1206.8571 | S35: =G35*$S$4*$S$3 -> 1558.8571
A36: 7.5 | B36: 8 | C36: Joseph, Hantz | E36: 1 | F36: =A36*E36 -> 7.5 | G36: =E36*B36 -> 8 | H36: =F36*$H$4*$H$3 -> 1461.4286 | I36: =F36*$I$4*$I$3 -> 1320 | J36: =F36*$J$4*$J$3 -> 1461.4286 | K36: =G36*$K$4*$K$3 -> 1508.5714 | L36: =G36*$L$4*$L$3 -> 1558.8571 | M36: =G36*$M$4*$M$3 -> 1508.5714 | N36: =G36*$N$4*$N$3 -> 1558.8571 | O36: =G36*$O$4*$O$3*$O$25 -> 1169.1429 | P36: =G36*$P$4*$P$3*$P$25 -> 754.28571 | Q36: =G36*$Q$4*$Q$3*$Q$25 -> 1169.1429 | R36: =G36*$R$4*$R$3*$R$25 -> 1206.8571 | S36: =G36*$S$4*$S$3 -> 1558.8571
A37: 7 | B37: 7.5 | C37: vacant | E37: 1 | F37: =A37*E37 -> 7 | G37: =E37*B37 -> 7.5 | H37: =F37*$H$4*$H$3 -> 1364 | I37: =F37*$I$4*$I$3 -> 1232 | J37: =F37*$J$4*$J$3 -> 1364 | K37: =G37*$K$4*$K$3 -> 1414.2857 | L37: =G37*$L$4*$L$3 -> 1461.4286 | M37: =G37*$M$4*$M$3 -> 1414.2857 | N37: =G37*$N$4*$N$3 -> 1461.4286 | O37: =G37*$O$4*$O$3*$O$25 -> 1096.0714 | P37: =G37*$P$4*$P$3*$P$25 -> 707.14286 | Q37: =G37*$Q$4*$Q$3*$Q$25 -> 1096.0714 | R37: =G37*$R$4*$R$3*$R$25 -> 1131.4286 | S37: =G37*$S$4*$S$3 -> 1461.4286
A38: =968/88 -> 11 | B38: 11.5 | C38: Prophete, Wadly | E38: 1 | F38: =A38*E38 -> 11 | G38: =E38*B38 -> 11.5 | H38: =F38*$H$4*$H$3 -> 2143.4286 | I38: =F38*$I$4*$I$3 -> 1936 | J38: =F38*$J$4*$J$3 -> 2143.4286 | K38: =G38*$K$4*$K$3 -> 2168.5714 | L38: =G38*$L$4*$L$3 -> 2240.8571 | M38: =G38*$M$4*$M$3 -> 2168.5714 | N38: =G38*$N$4*$N$3 -> 2240.8571 | O38: =G38*$O$4*$O$3 -> 2240.8571 | P38: =G38*$P$4*$P$3 -> 2168.5714 | Q38: =G38*$Q$4*$Q$3 -> 2240.8571 | R38: =G38*$R$4*$R$3 -> 2168.5714 | S38: =G38*$S$4*$S$3 -> 2240.8571
A39: =968/88 -> 11 | B39: 11.5 | C39: Walkin, Joe | E39: 1 | F39: =A39*E39 -> 11 | G39: =E39*B39 -> 11.5 | H39: =F39*$H$4*$H$3 -> 2143.4286 | I39: =F39*$I$4*$I$3 -> 1936 | J39: =F39*$J$4*$J$3 -> 2143.4286 | K39: =G39*$K$4*$K$3 -> 2168.5714 | L39: =G39*$L$4*$L$3 -> 2240.8571 | M39: =G39*$M$4*$M$3 -> 2168.5714 | N39: =G39*$N$4*$N$3 -> 2240.8571 | O39: =G39*$O$4*$O$3 -> 2240.8571 | P39: =G39*$P$4*$P$3 -> 2168.5714 | Q39: =G39*$Q$4*$Q$3 -> 2240.8571 | R39: =G39*$R$4*$R$3 -> 2168.5714 | S39: =G39*$S$4*$S$3 -> 2240.8571
A40: 7.5 | B40: 8 | C40: Williams, Derek | E40: 1 | F40: =A40*E40 -> 7.5 | G40: =E40*B40 -> 8 | H40: =F40*$H$4*$H$3 -> 1461.4286 | I40: =F40*$I$4*$I$3 -> 1320 | J40: =F40*$J$4*$J$3 -> 1461.4286 | K40: =G40*$K$4*$K$3 -> 1508.5714 | L40: =G40*$L$4*$L$3 -> 1558.8571 | M40: =G40*$M$4*$M$3 -> 1508.5714 | N40: =G40*$N$4*$N$3 -> 1558.8571 | O40: =G40*$O$4*$O$3*$O$25 -> 1169.1429 | P40: =G40*$P$4*$P$3*$P$25 -> 754.28571 | Q40: =G40*$Q$4*$Q$3*$Q$25 -> 1169.1429 | R40: =G40*$R$4*$R$3*$R$25 -> 1206.8571 | S40: =G40*$S$4*$S$3 -> 1558.8571
A41: 18500 | C41: Casuals | E41: 1 | H41: 4800 | I41: 3100 | J41: 6600 | K41: 5300 | L41: 6500 | M41: 13750 | N41: 19500 | O41: 14200 | P41: 16500 | Q41: 19600 | R41: 10800 | S41: 4000
...

Sheet FLOW 2022
I2: PROPRIETORS STRATA PLAN # 125
I4: RESERVE FUNDS 2022 BUDGET
B6: YEAR 2012 | I6: RESERVE FUNDS | M6: CAPITAL | N6: MAJOR | O6: TOTAL
B8: OPENING BALANCE 2012: | F8: -26726 | G8: -26726 | I8: OPENING BALANCE 2022: | M8: 32719.59 | N8: 311034 | O8: =SUM(M8:N8) -> 343753.59
B10: February | E10: 0.42 | F10: 6444 | G10: 6444 | I10: FUNDINGS YTD | M10: =17850.77*11 -> 196358.47 | N10: =16708.38*11 -> 183792.18 | O10: =SUM(M10:N10) -> 380150.65
B11: March | E11: 0.42 | F11: 6444 | G11: 6444
B12: April | E12: 0.42 | F12: 6444 | G12: 6444 | I12: YTD EXPENDITURES | M12: =-'CAPITAL 2022'!G28 -> -173473.64 | N12: =-'MAJOR 2022'!G12 -> -81167.12 | O12: =SUM(M12:N12) -> -254640.76
B13: May | E13: 0.42 | F13: 6444 | G13: 6444
B14: June | E14: 0.42 | F14: 6444 | G14: 6444 | I14: BALANCE NOVEMBER 2022 | M14: =SUM(M8:M12) -> 55604.42 | N14: =SUM(N8:N12) -> 413659.06 | O14: =SUM(M14:N14) -> 469263.48
B15: July | E15: 0.42 | F15: 6444 | G15: 6444
I16: FUNDING DECEMBER 2022 | M16: =17850.77*1 -> 17850.77 | N16: =16708.38*1 -> 16708.38 | O16: =SUM(M16:N16) -> 34559.15
I18: EXPENDITURE DECEMBER 2022 | M18: =-'CAPITAL 2022'!I28 -> -14743.3 | N18: =-'MAJOR 2022'!I12 -> 0 | O18: =SUM(M18:N18) -> -14743.3
I20: FORECASTED BALANCE DECEMBER 2022 | M20: =SUM(M14:M18) -> 58711.89 | N20: =SUM(N14:N18) -> 430367.44 | O20: =SUM(O14:O18) -> 489079.33
O29: 2022 Reserves Page 3 of 3

Sheet CAPEX 2023
B1: THE SHORE CLUB
B2: PROPRIETORS STRATA PLAN # 125
B4: CAPITAL EXPENDITURES - 2023
B6: PROJECT # | C6: CAPITAL RESERVE FUND | D6: Proposed Budget 2023
B8: 23C-01 | C8: Landscaping (Quiet Use Battery Equipment, Plants, Mulch) | D8: 17000
B9: 23C-02 | C9: Landscaping and Pathway Lighting | D9: 4000
B10: 23C-03 | C10: Irrigation / Filtration Pumps - Brought Forward from 2022 | D10: 3000
B11: 23C-04 | C11: WWTP - Pumps / Blowers / Control Board / Compressor | D11: 20000
B12: 23C-05 | C12: Lift Station Pumps / Piping Reconfiguartion / (submersable pumps) | D12: 11500
B13: 23C-06 | C13: Pool & Beach Furniture (includes chaises, umbrellas, lounger slings, tables, refurbishment, cushions) | D13: 47000
B14: 23C-07 | C14: Pool Filters & Silica Sand (Final works with AIB Pool, the Contractor) | D14: 9600
B15: 23C-08 | C15: Pool Lights (includes jacuzzi) - Brought forward from 2022 | D15: 15000
B16: 23C-09 | C16: Pool Pumps (includes jacuzzi) | D16: 12000
B17: 23C-10 | C17: Pool Chlorinator Salt Cells (Chorinators done in 2022, this year Salt Cells) | D17: 8000
B18: 23C-11 | C18: Pool Heaters (Colonnade) | D18: 8000
B19: 23C-12 | C19: Pool Heater - Electric (Adult Jacuzzi) | D19: 9000
... B25: 23C-18 | C25: Cushman - Battery Replacement | D25: 3600
B26: 23C-19 | C26: Building Foyer Traverline Refurbishment - All Landings | D26: =7400*4 -> 29600
B27: 23C-20 | C27: Insulation Machine w/ Expansion Foam | D27: 10000
B28: 23C-21 | C28: Power Meter (Surge Protector/Sub Meters) | D28: 12000
B29: 23C-22 | C29: MISC | D29: 10000
C30: TOTAL BUDGET 2023 CAPITAL RESERVE FUND | D30: =SUM(D8:D29) -> 264300

Sheet MAJOR 2023
B2: PROPRIETORS STRATA PLAN # 125
B4: MAJOR EXPENDITURES - BUDGET 2023
B6: PROJECT # | C6: MAJOR RESERVE FUND | D6: Budget 2023
B7: 23M-01 | C7: Water Instrusions / Condensation Issues | D7: =28000+12000 -> 40000
B8: 23M-02 | C8: Sun Tough/ Trellis | D8: 25000
C11: TOTAL MAJOR RESERVE FUND | D11: =SUM(D7:D8) -> 65000

Sheet Pool & Beach Furniture
B1: Shore Club Beach
B2: Existing Setup with some replacements of old items and the refurbishment of midlife equipment
B3: Please note the following amounts are estimates based on historical data.
B5: ITEM Requested | C5: AMOUNT EACH | D5: COST EACH | E5: TOTAL COST
B6: Tables Polymer - Pool and Beach Areas, Square White | C6: 24 | D6: 310 | E6: =C6*D6 -> 7440
B7: Chaise Lounge - Beach - New | C7: 12 | D7: 700 | E7: =C7*D7 -> 8400
B8: Chaise Lounge - Beach - Slings | C8: 36 | D8: 145 | E8: =C8*D8 -> 5220
B9: Chaise Lounge - Beach - Refurbishment (including sandsing an painting) | C9: 36 | D9: 125 | E9: 5000
